{ "currentVersion": 11.3, "serviceDescription": "
MDOT SHA provides a series of georeferenced historical maps and aerials for research and public use. The image is publicly available from the Library of Congress online catalogue (https://www.loc.gov/item/94681799/). The Martenet\u2019s Map of Maryland was completed 1865 by Simon J. Martenet C.E., engraving by Schmidt & Trowe, and was commissioned by U.S. Congress. The complete original title of the document is \u201cMartenet's map of Maryland : including the District of Columbia, a sketch of Delaware, and a portion of northern and eastern Virginia showing some of the most interesting localities of the late war\u201d. Maryland Environmental Service GIS on behalf of SHA attained the files from their sources, georeferenced each file using ESRI ArcGIS Pro to modern imagery using landmarks or coordinate tic marks if provided, and quality controlled for accuracy. This map is matched to modern geography as closely as possible based on the limitations of the original document and available imagery. <\/SPAN><\/P><\/DIV><\/DIV><\/DIV>",
"name": "Historical/MD_Martenet_1865",
"description": " MDOT SHA provides a series of georeferenced historical maps and aerials for research and public use. The image is publicly available from the Library of Congress online catalogue (https://www.loc.gov/item/94681799/). The Martenet\u2019s Map of Maryland was completed 1865 by Simon J. Martenet C.E., engraving by Schmidt & Trowe, and was commissioned by U.S. Congress. The complete original title of the document is \u201cMartenet's map of Maryland : including the District of Columbia, a sketch of Delaware, and a portion of northern and eastern Virginia showing some of the most interesting localities of the late war\u201d. Maryland Environmental Service GIS on behalf of SHA attained the files from their sources, georeferenced each file using ESRI ArcGIS Pro to modern imagery using landmarks or coordinate tic marks if provided, and quality controlled for accuracy. This map is matched to modern geography as closely as possible based on the limitations of the original document and available imagery. <\/SPAN><\/P><\/DIV><\/DIV><\/DIV>",
"extent": {
"xmin": -8874596.9044,
"ymin": 4531466.906137152,
"xmax": -8332650.686068485,
"ymax": 4857455.991999999,
"spatialReference": {
"wkid": 102100,
"latestWkid": 3857
}
},
"initialExtent": {
"xmin": -8874596.9044,
"ymin": 4531466.906137152,
"xmax": -8332650.686068485,
"ymax": 4857455.991999999,
"spatialReference": {
"wkid": 102100,
"latestWkid": 3857
}
},
"fullExtent": {
"xmin": -8874596.9044,
"ymin": 4531466.906137152,
"xmax": -8332650.686068485,
"ymax": 4857455.991999999,
"spatialReference": {
"wkid": 102100,
"latestWkid": 3857
}
},
"sortableFields": "MinPS,MaxPS,LowPS,HighPS,CenterX,CenterY,ZOrder,Shape_Length,Shape_Area",
"bandCount": 3,
"pixelType": "U8",
"minValues": [
0,
0,
1
],
"maxValues": [
255,
255,
255
],
"meanValues": [
192.04044812024148,
156.62099202325632,
119.19069409376337
],
"stdvValues": [
35.332330637828505,
29.500041415250664,
22.920955102272657
],
"hasMultidimensions": false,
"pixelSizeX": 18.49898342202061,
"pixelSizeY": 18.4989834220206,
"meanPixelSize": 18.498983422020608,
"datasetFormat": "AMD",
"uncompressedSize": 1548709470,
"blockWidth": 2048,
"blockHeight": 256,
"compressionType": "None",
"bandNames": [
"Band_1",
"Band_2",
"Band_3"
],
"allowCopy": true,
"allowAnalysis": true,
"itemAccess": false,
"inspectionCapabilities": "",
"minPixelSize": 0,
"maxPixelSize": 0,
"copyrightText": "MD iMAP, MDOT SHA, Library of Congress Geography and Map Division, Simon J. Martenet",
"serviceDataType": "esriImageServiceDataTypeRGB",
"serviceSourceType": "esriImageServiceSourceTypeMosaicDataset",
"objectIdField": "OBJECTID",
"fields": [
{
"name": "OBJECTID",
"type": "esriFieldTypeOID",
"alias": "OBJECTID",
"domain": null
},
{
"name": "Shape",
"type": "esriFieldTypeGeometry",
"alias": "Shape",
"domain": null
},
{
"name": "Name",
"type": "esriFieldTypeString",
"alias": "Name",
"domain": null,
"length": 200
},
{
"name": "MinPS",
"type": "esriFieldTypeDouble",
"alias": "MinPS",
"domain": null
},
{
"name": "MaxPS",
"type": "esriFieldTypeDouble",
"alias": "MaxPS",
"domain": null
},
{
"name": "LowPS",
"type": "esriFieldTypeDouble",
"alias": "LowPS",
"domain": null
},
{
"name": "HighPS",
"type": "esriFieldTypeDouble",
"alias": "HighPS",
"domain": null
},
{
"name": "Category",
"type": "esriFieldTypeInteger",
"alias": "Category",
"domain": {
"type": "codedValue",
"name": "MosaicCatalogItemCategoryDomain",
"description": "Catalog item categories.",
"codedValues": [
{
"name": "Unknown",
"code": 0
},
{
"name": "Primary",
"code": 1
},
{
"name": "Overview",
"code": 2
},
{
"name": "Unprocessed Overview",
"code": 3
},
{
"name": "Partial Overview",
"code": 4
},
{
"name": "Inactive",
"code": 5
},
{
"name": "Uploaded",
"code": 253
},
{
"name": "Incomplete",
"code": 254
},
{
"name": "Custom",
"code": 255
}
],
"mergePolicy": "esriMPTDefaultValue",
"splitPolicy": "esriSPTDefaultValue"
}
},
{
"name": "Tag",
"type": "esriFieldTypeString",
"alias": "Tag",
"domain": null,
"length": 100
},
{
"name": "GroupName",
"type": "esriFieldTypeString",
"alias": "GroupName",
"domain": null,
"length": 100
},
{
"name": "ProductName",
"type": "esriFieldTypeString",
"alias": "ProductName",
"domain": null,
"length": 100
},
{
"name": "CenterX",
"type": "esriFieldTypeDouble",
"alias": "CenterX",
"domain": null
},
{
"name": "CenterY",
"type": "esriFieldTypeDouble",
"alias": "CenterY",
"domain": null
},
{
"name": "ZOrder",
"type": "esriFieldTypeInteger",
"alias": "ZOrder",
"domain": null
},
{
"name": "Shape_Length",
"type": "esriFieldTypeDouble",
"alias": "Shape_Length",
"domain": null
},
{
"name": "Shape_Area",
"type": "esriFieldTypeDouble",
"alias": "Shape_Area",
"domain": null
}
],
"capabilities": "Image,Metadata,Catalog,Mensuration",
"defaultMosaicMethod": "Northwest",
"allowedMosaicMethods": "NorthWest,Center,LockRaster,ByAttribute,Nadir,Viewpoint,Seamline,None",
"sortField": "",
"sortValue": null,
"sortAscending": true,
"mosaicOperator": "First",
"maxDownloadSizeLimit": 2048,
"defaultCompressionQuality": 75,
"defaultResamplingMethod": "Bilinear",
"maxImageHeight": 4100,
"maxImageWidth": 15000,
"maxRecordCount": 1000,
"maxDownloadImageCount": 20,
"maxMosaicImageCount": 20,
"allowRasterFunction": true,
"rasterFunctionInfos": [
{
"name": "None",
"description": "",
"help": ""
}
],
"rasterTypeInfos": [
{
"name": "Raster Dataset",
"description": "Supports all ArcGIS Raster Datasets",
"help": ""
}
],
"mensurationCapabilities": "Basic",
"hasHistograms": true,
"hasColormap": false,
"hasRasterAttributeTable": false,
"minScale": 0,
"maxScale": 0,
"exportTilesAllowed": false,
"supportsStatistics": true,
"supportsAdvancedQueries": true,
"editFieldsInfo": null,
"ownershipBasedAccessControlForRasters": null,
"allowComputeTiePoints": false,
"useStandardizedQueries": true,
"advancedQueryCapabilities": {
"useStandardizedQueries": true,
"supportsStatistics": true,
"supportsOrderBy": true,
"supportsDistinct": true,
"supportsPagination": true
},
"spatialReference": {
"wkid": 102100,
"latestWkid": 3857
}
}