{ "currentVersion": 11.3, "serviceDescription": "
MDOT SHA provides a series of georeferenced historical maps and aerials for research and public use. These images are publicly available from Johns Hopkins University Library website, maps and atlases section (http://jhir.library.jhu.edu/handle/1774.2/36062). The aerial images of Worchester County\u2019s eastern shoreline were photographed between October 1952 and July 1964 by Aero Service Corp. & Maps, Inc. for the Maryland State Roads Commission, now the Maryland State Highway Administration. The original aerial photography prints were later transferred to the Maryland Geological Survey (MGS), imaged in 2011, and made publicly available online by Johns Hopkins University Libraries. The extent of these images is of Worchester County eastern shoreline from the Maryland-Delaware border to the north to the Maryland-Virginia border to the south, which includes Ocean City and Fenwick and Assateague Islands. Maryland Environmental Service GIS on behalf of SHA attained the files from their sources, georeferenced each file using ESRI ArcGIS Pro to modern imagery using landmarks or coordinate tic marks if provided, and quality controlled for accuracy. These aerial images are matched to modern geography as closely as possible based on the limitations of the original document and available imagery.<\/SPAN><\/P><\/DIV><\/DIV><\/DIV>",
"name": "Historical/MD_OceanCityCoastline",
"description": " MDOT SHA provides a series of georeferenced historical maps and aerials for research and public use. These images are publicly available from Johns Hopkins University Library website, maps and atlases section (http://jhir.library.jhu.edu/handle/1774.2/36062). The aerial images of Worchester County\u2019s eastern shoreline were photographed between October 1952 and July 1964 by Aero Service Corp. & Maps, Inc. for the Maryland State Roads Commission, now the Maryland State Highway Administration. The original aerial photography prints were later transferred to the Maryland Geological Survey (MGS), imaged in 2011, and made publicly available online by Johns Hopkins University Libraries. The extent of these images is of Worchester County eastern shoreline from the Maryland-Delaware border to the north to the Maryland-Virginia border to the south, which includes Ocean City and Fenwick and Assateague Islands. Maryland Environmental Service GIS on behalf of SHA attained the files from their sources, georeferenced each file using ESRI ArcGIS Pro to modern imagery using landmarks or coordinate tic marks if provided, and quality controlled for accuracy. These aerial images are matched to modern geography as closely as possible based on the limitations of the original document and available imagery.<\/SPAN><\/P><\/DIV><\/DIV><\/DIV>",
"extent": {
"xmin": -8360543.8528,
"ymin": 4622932.233745881,
"xmax": -8354192.815880286,
"ymax": 4641704.823600002,
"spatialReference": {
"wkid": 102100,
"latestWkid": 3857
}
},
"initialExtent": {
"xmin": -8360543.8528,
"ymin": 4622932.233745881,
"xmax": -8354192.815880286,
"ymax": 4641704.823600002,
"spatialReference": {
"wkid": 102100,
"latestWkid": 3857
}
},
"fullExtent": {
"xmin": -8360543.8528,
"ymin": 4622932.233745881,
"xmax": -8354192.815880286,
"ymax": 4641704.823600002,
"spatialReference": {
"wkid": 102100,
"latestWkid": 3857
}
},
"sortableFields": "MinPS,MaxPS,LowPS,HighPS,CenterX,CenterY,ZOrder,Shape_Length,Shape_Area",
"bandCount": 3,
"pixelType": "U8",
"minValues": [
27,
28,
24
],
"maxValues": [
255,
255,
255
],
"meanValues": [
118.04836579143466,
117.65214562574755,
110.60087378602395
],
"stdvValues": [
45.72915366457931,
47.091184074092716,
46.045152558371726
],
"hasMultidimensions": false,
"pixelSizeX": 0.09915903323572395,
"pixelSizeY": 0.09915903323572126,
"meanPixelSize": 0.0991590332357226,
"datasetFormat": "AMD",
"uncompressedSize": 36376885746,
"blockWidth": 2048,
"blockHeight": 256,
"compressionType": "None",
"bandNames": [
"Band_1",
"Band_2",
"Band_3"
],
"allowCopy": true,
"allowAnalysis": true,
"itemAccess": false,
"inspectionCapabilities": "",
"minPixelSize": 0,
"maxPixelSize": 0,
"copyrightText": "MD iMAP, MDOT SHA, Maryland Geological Survey, Johns Hopkins University Libraries",
"serviceDataType": "esriImageServiceDataTypeRGB",
"serviceSourceType": "esriImageServiceSourceTypeMosaicDataset",
"objectIdField": "OBJECTID",
"fields": [
{
"name": "OBJECTID",
"type": "esriFieldTypeOID",
"alias": "OBJECTID",
"domain": null
},
{
"name": "Shape",
"type": "esriFieldTypeGeometry",
"alias": "Shape",
"domain": null
},
{
"name": "Name",
"type": "esriFieldTypeString",
"alias": "Name",
"domain": null,
"length": 200
},
{
"name": "MinPS",
"type": "esriFieldTypeDouble",
"alias": "MinPS",
"domain": null
},
{
"name": "MaxPS",
"type": "esriFieldTypeDouble",
"alias": "MaxPS",
"domain": null
},
{
"name": "LowPS",
"type": "esriFieldTypeDouble",
"alias": "LowPS",
"domain": null
},
{
"name": "HighPS",
"type": "esriFieldTypeDouble",
"alias": "HighPS",
"domain": null
},
{
"name": "Category",
"type": "esriFieldTypeInteger",
"alias": "Category",
"domain": {
"type": "codedValue",
"name": "MosaicCatalogItemCategoryDomain",
"description": "Catalog item categories.",
"codedValues": [
{
"name": "Unknown",
"code": 0
},
{
"name": "Primary",
"code": 1
},
{
"name": "Overview",
"code": 2
},
{
"name": "Unprocessed Overview",
"code": 3
},
{
"name": "Partial Overview",
"code": 4
},
{
"name": "Inactive",
"code": 5
},
{
"name": "Uploaded",
"code": 253
},
{
"name": "Incomplete",
"code": 254
},
{
"name": "Custom",
"code": 255
}
],
"mergePolicy": "esriMPTDefaultValue",
"splitPolicy": "esriSPTDefaultValue"
}
},
{
"name": "Tag",
"type": "esriFieldTypeString",
"alias": "Tag",
"domain": null,
"length": 100
},
{
"name": "GroupName",
"type": "esriFieldTypeString",
"alias": "GroupName",
"domain": null,
"length": 100
},
{
"name": "ProductName",
"type": "esriFieldTypeString",
"alias": "ProductName",
"domain": null,
"length": 100
},
{
"name": "CenterX",
"type": "esriFieldTypeDouble",
"alias": "CenterX",
"domain": null
},
{
"name": "CenterY",
"type": "esriFieldTypeDouble",
"alias": "CenterY",
"domain": null
},
{
"name": "ZOrder",
"type": "esriFieldTypeInteger",
"alias": "ZOrder",
"domain": null
},
{
"name": "Shape_Length",
"type": "esriFieldTypeDouble",
"alias": "Shape_Length",
"domain": null
},
{
"name": "Shape_Area",
"type": "esriFieldTypeDouble",
"alias": "Shape_Area",
"domain": null
}
],
"capabilities": "Image,Metadata,Catalog",
"defaultMosaicMethod": "Northwest",
"allowedMosaicMethods": "NorthWest,Center,LockRaster,ByAttribute,Nadir,Viewpoint,Seamline,None",
"sortField": "",
"sortValue": null,
"sortAscending": true,
"mosaicOperator": "First",
"maxDownloadSizeLimit": 2048,
"defaultCompressionQuality": 75,
"defaultResamplingMethod": "Bilinear",
"maxImageHeight": 4100,
"maxImageWidth": 15000,
"maxRecordCount": 1000,
"maxDownloadImageCount": 20,
"maxMosaicImageCount": 40,
"allowRasterFunction": true,
"rasterFunctionInfos": [
{
"name": "None",
"description": "",
"help": ""
}
],
"rasterTypeInfos": [
{
"name": "Raster Dataset",
"description": "Supports all ArcGIS Raster Datasets",
"help": ""
}
],
"mensurationCapabilities": "None",
"hasHistograms": true,
"hasColormap": false,
"hasRasterAttributeTable": false,
"minScale": 0,
"maxScale": 0,
"exportTilesAllowed": false,
"supportsStatistics": true,
"supportsAdvancedQueries": true,
"editFieldsInfo": null,
"ownershipBasedAccessControlForRasters": null,
"allowComputeTiePoints": false,
"useStandardizedQueries": true,
"advancedQueryCapabilities": {
"useStandardizedQueries": true,
"supportsStatistics": true,
"supportsOrderBy": true,
"supportsDistinct": true,
"supportsPagination": true
},
"spatialReference": {
"wkid": 102100,
"latestWkid": 3857
}
}