{
 "currentVersion": 11.3,
 "cimVersion": "3.3.0",
 "serviceDescription": " This service provides Six Inch resolution aerial imagery for the State of Maryland. The imagery for this service is composed of imagery flown in 2011 (Western Shore) and 2013 (Eastern Shore and Howard County).<\/SPAN><\/P><\/DIV><\/DIV><\/DIV>",
 "mapName": "SixInchImagery2011_2013",
 "description": "",
 "copyrightText": "MD iMAP, DoIT",
 "supportsDynamicLayers": false,
 "layers": [
  {
   "id": 0,
   "name": "SixInchImagery2011_2013",
   "parentLayerId": -1,
   "defaultVisibility": true,
   "subLayerIds": null,
   "minScale": 0,
   "maxScale": 0,
   "type": "Feature Layer",
   "geometryType": "esriGeometryPolygon",
   "supportsDynamicLegends": true
  }
 ],
 "tables": [],
 "spatialReference": {
  "wkid": 102100,
  "latestWkid": 3857,
  "xyTolerance": 0.001,
  "zTolerance": 0.001,
  "mTolerance": 0.001,
  "falseX": -20037700,
  "falseY": -30241100,
  "xyUnits": 10000,
  "falseZ": -100000,
  "zUnits": 10000,
  "falseM": -100000,
  "mUnits": 10000
 },
 "singleFusedMapCache": true,
 "tileInfo": {
  "rows": 256,
  "cols": 256,
  "dpi": 96,
  "format": "JPEG",
  "compressionQuality": 90,
  "origin": {
   "x": -2.0037508342787E7,
   "y": 2.0037508342787E7
  },
  "spatialReference": {
   "wkid": 102100,
   "latestWkid": 3857,
   "xyTolerance": 0.001,
   "zTolerance": 0.001,
   "mTolerance": 0.001,
   "falseX": -20037700,
   "falseY": -30241100,
   "xyUnits": 10000,
   "falseZ": -100000,
   "zUnits": 10000,
   "falseM": -100000,
   "mUnits": 10000
  },
  "lods": [
   {
    "level": 0,
    "resolution": 611.4962262813797,
    "scale": 2311162.217155
   },
   {
    "level": 1,
    "resolution": 305.74811314055756,
    "scale": 1155581.108577
   },
   {
    "level": 2,
    "resolution": 152.87405657041106,
    "scale": 577790.554289
   },
   {
    "level": 3,
    "resolution": 76.43702828507324,
    "scale": 288895.277144
   },
   {
    "level": 4,
    "resolution": 38.21851414253662,
    "scale": 144447.638572
   },
   {
    "level": 5,
    "resolution": 19.10925707126831,
    "scale": 72223.819286
   },
   {
    "level": 6,
    "resolution": 9.554628535634155,
    "scale": 36111.909643
   },
   {
    "level": 7,
    "resolution": 4.77731426794937,
    "scale": 18055.954822
   },
   {
    "level": 8,
    "resolution": 2.388657133974685,
    "scale": 9027.977411
   },
   {
    "level": 9,
    "resolution": 1.1943285668550503,
    "scale": 4513.988705
   },
   {
    "level": 10,
    "resolution": 0.5971642835598172,
    "scale": 2256.994353
   },
   {
    "level": 11,
    "resolution": 0.29858214164761665,
    "scale": 1128.497176
   }
  ]
 },
 "storageInfo": {
  "storageFormat": "esriMapCacheStorageModeCompactV2",
  "packetSize": 128
 },
 "initialExtent": {
  "xmin": -9043595.822709974,
  "ymin": 4384442.519981307,
  "xmax": -8159583.686350223,
  "ymax": 5006013.553359258,
  "spatialReference": {
   "cs": "pcs",
   "wkid": 102100
  }
 },
 "fullExtent": {
  "xmin": -8852727.0526,
  "ymin": 4560119.235699996,
  "xmax": -8349977.307399999,
  "ymax": 4830795.810099997,
  "spatialReference": {
   "cs": "pcs",
   "wkid": 102100
  }
 },
 "datesInUnknownTimezone": false,
 "minScale": 2311162.217155,
 "maxScale": 1128.497176,
 "units": "esriMeters",
 "supportedImageFormatTypes": "PNG32,PNG24,PNG,JPG,DIB,TIFF,EMF,PS,PDF,GIF,SVG,SVGZ,BMP",
 "documentInfo": {
  "Title": "Map",
  "Author": "",
  "Comments": "",
  "Subject": "",
  "Category": "",
  "Version": "3.3.0",
  "AntialiasingMode": "Fast",
  "TextAntialiasingMode": "Force",
  "Keywords": "Six Inch,Imagery,MD iMAP,2011,2013"
 },
 "supportsQueryDomains": true,
 "capabilities": "Map,Query,Data",
 "supportedQueryFormats": "JSON, geoJSON, PBF",
 "exportTilesAllowed": false,
 "referenceScale": 0.0,
 "supportsDatumTransformation": true,
 "archivingInfo": {
  "supportsHistoricMoment": false
 },
 "supportsClipping": true,
 "supportsSpatialFilter": true,
 "supportsTimeRelation": true,
 "supportsQueryDataElements": true,
 "mapUnits": {
  "uwkid": 9001
 },
 "maxRecordCount": 2000,
 "maxImageHeight": 4096,
 "maxImageWidth": 4096,
 "supportedExtensions": "WMSServer"
}
