{
 "currentVersion": 11.3,
 "cimVersion": "3.3.0",
 "serviceDescription": " This image service provides Three Inch resolution aerial imagery for the State of Maryland. The imagery for this service is composed of imagery flown in 2020 (Gaithersburg, Rockville), 2023 (Anne Arundel County), 2024 (Eastern Shore), and 2025 (Western Shore).<\/span><\/p><\/div>",
 "mapName": "ThreeInch_MD_ThreeInchImagery",
 "description": "This image service provides Three Inch resolution aerial imagery for the State of Maryland. The imagery for this service is composed of imagery flown in 2020 (Gaithersburg, Rockville), 2023 (Anne Arundel County), 2024 (Eastern Shore), and 2025 (Western Shore).",
 "copyrightText": "MD iMAP, DoIT",
 "supportsDynamicLayers": false,
 "layers": [
  {
   "id": 0,
   "name": "MD_ThreeInchImagery",
   "parentLayerId": -1,
   "defaultVisibility": true,
   "subLayerIds": null,
   "minScale": 0,
   "maxScale": 0,
   "type": "Feature Layer",
   "geometryType": "esriGeometryPolygon",
   "supportsDynamicLegends": true
  }
 ],
 "tables": [],
 "spatialReference": {
  "wkid": 102100,
  "latestWkid": 3857,
  "xyTolerance": 0.001,
  "zTolerance": 0.001,
  "mTolerance": 0.001,
  "falseX": -20037700,
  "falseY": -30241100,
  "xyUnits": 10000,
  "falseZ": -100000,
  "zUnits": 10000,
  "falseM": -100000,
  "mUnits": 10000
 },
 "singleFusedMapCache": true,
 "tileInfo": {
  "rows": 512,
  "cols": 512,
  "dpi": 96,
  "format": "MIXED",
  "compressionQuality": 90,
  "origin": {
   "x": -20037700,
   "y": 30241100
  },
  "spatialReference": {
   "wkid": 102100,
   "latestWkid": 3857,
   "xyTolerance": 0.001,
   "zTolerance": 0.001,
   "mTolerance": 0.001,
   "falseX": -20037700,
   "falseY": -30241100,
   "xyUnits": 10000,
   "falseZ": -100000,
   "zUnits": 10000,
   "falseM": -100000,
   "mUnits": 10000
  },
  "lods": [
   {
    "level": 0,
    "resolution": 2445.9849051255187,
    "scale": 9244648.86862
   },
   {
    "level": 1,
    "resolution": 1222.9924525627594,
    "scale": 4622324.43431
   },
   {
    "level": 2,
    "resolution": 611.4962262813797,
    "scale": 2311162.217155
   },
   {
    "level": 3,
    "resolution": 305.74811314055756,
    "scale": 1155581.108577
   },
   {
    "level": 4,
    "resolution": 152.87405657041106,
    "scale": 577790.554289
   },
   {
    "level": 5,
    "resolution": 76.43702828507324,
    "scale": 288895.277144
   },
   {
    "level": 6,
    "resolution": 38.21851414253662,
    "scale": 144447.638572
   },
   {
    "level": 7,
    "resolution": 19.10925707126831,
    "scale": 72223.819286
   },
   {
    "level": 8,
    "resolution": 9.554628535634155,
    "scale": 36111.909643
   },
   {
    "level": 9,
    "resolution": 4.77731426794937,
    "scale": 18055.954822
   },
   {
    "level": 10,
    "resolution": 2.388643992120693,
    "scale": 9027.9277411
   },
   {
    "level": 11,
    "resolution": 1.1943285668550503,
    "scale": 4513.988705
   },
   {
    "level": 12,
    "resolution": 0.5971642835598172,
    "scale": 2256.994353
   },
   {
    "level": 13,
    "resolution": 0.29858214164761665,
    "scale": 1128.497176
   },
   {
    "level": 14,
    "resolution": 0.14929107082380833,
    "scale": 564.248588
   },
   {
    "level": 15,
    "resolution": 0.07464553541190416,
    "scale": 282.124294
   }
  ]
 },
 "storageInfo": {
  "storageFormat": "esriMapCacheStorageModeCompactV2",
  "packetSize": 128
 },
 "initialExtent": {
  "xmin": -8998394.596262548,
  "ymin": 4376398.476271067,
  "xmax": -8204309.763737451,
  "ymax": 5014050.086628931,
  "spatialReference": {
   "wkid": 102100,
   "latestWkid": 3857,
   "xyTolerance": 0.001,
   "zTolerance": 0.001,
   "mTolerance": 0.001,
   "falseX": -20037700,
   "falseY": -30241100,
   "xyUnits": 10000,
   "falseZ": -100000,
   "zUnits": 10000,
   "falseM": -100000,
   "mUnits": 10000
  }
 },
 "fullExtent": {
  "xmin": -8852727.0526,
  "ymin": 4559519.201499999,
  "xmax": -8349977.3074,
  "ymax": 4830929.361399999,
  "spatialReference": {
   "wkid": 102100,
   "latestWkid": 3857,
   "xyTolerance": 0.001,
   "zTolerance": 0.001,
   "mTolerance": 0.001,
   "falseX": -20037700,
   "falseY": -30241100,
   "xyUnits": 10000,
   "falseZ": -100000,
   "zUnits": 10000,
   "falseM": -100000,
   "mUnits": 10000
  }
 },
 "datesInUnknownTimezone": false,
 "minScale": 9244648.86862,
 "maxScale": 282.124294,
 "units": "esriMeters",
 "supportedImageFormatTypes": "PNG32,PNG24,PNG,JPG,DIB,TIFF,EMF,PS,PDF,GIF,SVG,SVGZ,BMP",
 "documentInfo": {
  "Title": "MD Three Inch Imagery 2025",
  "Author": "",
  "Comments": "This image service provides Three Inch resolution aerial imagery for the State of Maryland. The imagery for this service is composed of imagery flown in 2020 (Gaithersburg, Rockville), 2023 (Anne Arundel County), 2024 (Eastern Shore), and 2025 (Western Shore).",
  "Subject": "This image service provides Three Inch resolution aerial imagery for the State of Maryland. The imagery for this service is composed of imagery flown in 2020 (Gaithersburg, Rockville), 2023 (Anne Arundel County), 2024 (Eastern Shore), and 2025 (Western Shore).",
  "Category": "",
  "Version": "3.3.0",
  "AntialiasingMode": "Fast",
  "TextAntialiasingMode": "Force",
  "Keywords": "MD iMAP,Three Inch,Imagery"
 },
 "supportsQueryDomains": true,
 "capabilities": "Map,Query,Data",
 "supportedQueryFormats": "JSON, geoJSON, PBF",
 "exportTilesAllowed": false,
 "referenceScale": 0.0,
 "supportsDatumTransformation": true,
 "archivingInfo": {
  "supportsHistoricMoment": false
 },
 "supportsClipping": true,
 "supportsSpatialFilter": true,
 "supportsTimeRelation": true,
 "supportsQueryDataElements": true,
 "mapUnits": {
  "uwkid": 9001
 },
 "maxRecordCount": 2000,
 "maxImageHeight": 4096,
 "maxImageWidth": 4096,
 "supportedExtensions": "WMSServer",
 "resampling": true
}
