{ "currentVersion": 11.3, "serviceDescription": "
The CS-CRAB raster layer was created using a GIS spatial analysis model, unique for each county in Maryland. Coastal counties follow an analysis methodology that incorporates FEMA Stillwater wave action as it is understood from the FEMA identified VE zones. A Water Surface Elevation (WSE) and Still Water Elevation (SWEL) rasters are used as the baseline to identify existing water depths within each county. For all flood zones that are not classified as VE the WSE three feet was added to reflect a three-foot rise in the base flood elevations. For those WSEs falling within a FEMA floodplain identified V Zone, six feet was added (three feet for the increase in flood elevations for the CS-CRAB, and 3 feet to compensate for the minimum of 3 foot wave action typically mapped by FEMA) / wave heights greater than 3 feet were reduced to the 3 foot minimum for consistency across the shoreline. The newly calculated WSE plus three datasets were then converted to points and merged. Next, an Inverse Distance Weighted (IDW) Interpolation was used to compute the proportional weighted values between the WSE point locations based on proximity. The DEM for each county is then subtracted from the new IDW raster in order to show precise water locations as they relate to the land elevation, producing a freeboard depth grid representing the depth of flood waters above the existing ground elevation given a 3 foot increase in water level. A course resolution QAQC was applied to remove \u201cislands\u201d of data associated with DEM inaccuracies and other elevation anomalies.The analysis was run at a 1 ft x 1 ft raster resolution. The DEM accuracy for each county varies based what is currently available. Here the breakdown of DEM accuracy for each county used in this project: Anne Arundel County DEM year is 2017 and horizontal resolution is 1ft. Baltimore County DEM year is 2015 and horizontal resolution is 2.5ft. Baltimore City DEM year is 2015 and horizontal resolution is 0.7m. Calvert County DEM year is 2017 and horizontal resolution is 1ft. Caroline County DEM year is 2013 and horizontal resolution is 3.125ft. Cecil county DEM year is 2013 and horizontal resolution is 0.6m. Charles County DEM year is 2014 and horizontal resolution is 0.9m. Dorchester County DEM year is 2013 and horizontal resolution is 0.9m. Harford County DEM is 2013 and horizontal accuracy is 1.5m. Kent County DEM year is 2015 and horizontal resolution is 0.7m. Prince George\u2019s County DEM year is 2014 and horizontal resolution is 0.7m. Queen Anne\u2019s County DEM year is 2013 and horizontal resolution is 0.6m. Somerset County DEM year is 2012 and horizontal accuracy is 1m. St Mary\u2019s County DEM year is 2014 and Horizontal accuracy is 0.9m. Talbot County DEM year is 2015 and Horizontal accuracy is 0.7m. Wicomico County DEM year is 2012 and horizontal accuracy is 1m. Worchester County DEM year is 2011 and horizontal accuracy is 1m.<\/SPAN><\/P><\/DIV><\/DIV><\/DIV>",
"name": "Environment/MD_CoastSmartCRAB",
"description": " The CS-CRAB raster layer was created using a GIS spatial analysis model, unique for each county in Maryland. Coastal counties follow an analysis methodology that incorporates FEMA Stillwater wave action as it is understood from the FEMA identified VE zones. A Water Surface Elevation (WSE) and Still Water Elevation (SWEL) rasters are used as the baseline to identify existing water depths within each county. For all flood zones that are not classified as VE the WSE three feet was added to reflect a three-foot rise in the base flood elevations. For those WSEs falling within a FEMA floodplain identified V Zone, six feet was added (three feet for the increase in flood elevations for the CS-CRAB, and 3 feet to compensate for the minimum of 3 foot wave action typically mapped by FEMA) / wave heights greater than 3 feet were reduced to the 3 foot minimum for consistency across the shoreline. The newly calculated WSE plus three datasets were then converted to points and merged. Next, an Inverse Distance Weighted (IDW) Interpolation was used to compute the proportional weighted values between the WSE point locations based on proximity. The DEM for each county is then subtracted from the new IDW raster in order to show precise water locations as they relate to the land elevation, producing a freeboard depth grid representing the depth of flood waters above the existing ground elevation given a 3 foot increase in water level. A course resolution QAQC was applied to remove \u201cislands\u201d of data associated with DEM inaccuracies and other elevation anomalies.The analysis was run at a 1 ft x 1 ft raster resolution. The DEM accuracy for each county varies based what is currently available. Here the breakdown of DEM accuracy for each county used in this project: Anne Arundel County DEM year is 2017 and horizontal resolution is 1ft. Baltimore County DEM year is 2015 and horizontal resolution is 2.5ft. Baltimore City DEM year is 2015 and horizontal resolution is 0.7m. Calvert County DEM year is 2017 and horizontal resolution is 1ft. Caroline County DEM year is 2013 and horizontal resolution is 3.125ft. Cecil county DEM year is 2013 and horizontal resolution is 0.6m. Charles County DEM year is 2014 and horizontal resolution is 0.9m. Dorchester County DEM year is 2013 and horizontal resolution is 0.9m. Harford County DEM is 2013 and horizontal accuracy is 1.5m. Kent County DEM year is 2015 and horizontal resolution is 0.7m. Prince George\u2019s County DEM year is 2014 and horizontal resolution is 0.7m. Queen Anne\u2019s County DEM year is 2013 and horizontal resolution is 0.6m. Somerset County DEM year is 2012 and horizontal accuracy is 1m. St Mary\u2019s County DEM year is 2014 and Horizontal accuracy is 0.9m. Talbot County DEM year is 2015 and Horizontal accuracy is 0.7m. Wicomico County DEM year is 2012 and horizontal accuracy is 1m. Worchester County DEM year is 2011 and horizontal accuracy is 1m.<\/SPAN><\/P><\/DIV><\/DIV><\/DIV>",
"extent": {
"xmin": 1233574.8806561048,
"ymin": 90450.70518216467,
"xmax": 1871598.8806561048,
"ymax": 716879.7051821647,
"spatialReference": {
"wkt2": "PROJCRS[\"NAD_1983_StatePlane_Maryland_FIPS_1900_Feet\",BASEGEOGCRS[\"GCS_North_American_1983\",DATUM[\"D_North_American_1983\",ELLIPSOID[\"GRS_1980\",6378137.0,298.257222101,LENGTHUNIT[\"Meter\",1.0]]],PRIMEM[\"Greenwich\",0.0,ANGLEUNIT[\"Degree\",0.0174532925199433]],CS[ellipsoidal,2],ANGLEUNIT[\"Degree\",0.0174532925199433]],CONVERSION[\"Lambert_Conformal_Conic\",METHOD[\"Lambert_Conformal_Conic\"],PARAMETER[\"False_Easting\",1312333.333,LENGTHUNIT[\"Foot_US\",0.3048006096012192]],PARAMETER[\"False_Northing\",0.0,LENGTHUNIT[\"Foot_US\",0.3048006096012192]],PARAMETER[\"Central_Meridian\",-77.0,ANGLEUNIT[\"Degree\",0.0174532925199433]],PARAMETER[\"Standard_Parallel_1\",38.3,ANGLEUNIT[\"Degree\",0.0174532925199433]],PARAMETER[\"Standard_Parallel_2\",39.45,ANGLEUNIT[\"Degree\",0.0174532925199433]],PARAMETER[\"Latitude_Of_Origin\",37.6666666666667,ANGLEUNIT[\"Degree\",0.0174532925199433]]],CS[Cartesian,2],AXIS[\"Easting (X)\",east,ORDER[1]],AXIS[\"Northing (Y)\",north,ORDER[2]],LENGTHUNIT[\"Foot_US\",0.3048006096012192]]",
"wkt": "PROJCS[\"NAD_1983_StatePlane_Maryland_FIPS_1900_Feet\",GEOGCS[\"GCS_North_American_1983\",DATUM[\"D_North_American_1983\",SPHEROID[\"GRS_1980\",6378137.0,298.257222101]],PRIMEM[\"Greenwich\",0.0],UNIT[\"Degree\",0.0174532925199433]],PROJECTION[\"Lambert_Conformal_Conic\"],PARAMETER[\"False_Easting\",1312333.333],PARAMETER[\"False_Northing\",0.0],PARAMETER[\"Central_Meridian\",-77.0],PARAMETER[\"Standard_Parallel_1\",38.3],PARAMETER[\"Standard_Parallel_2\",39.45],PARAMETER[\"Latitude_Of_Origin\",37.6666666666667],UNIT[\"Foot_US\",0.3048006096012192]]"
}
},
"initialExtent": {
"xmin": 1233574.8806561048,
"ymin": 90450.70518216467,
"xmax": 1871598.8806561048,
"ymax": 716879.7051821647,
"spatialReference": {
"wkt2": "PROJCRS[\"NAD_1983_StatePlane_Maryland_FIPS_1900_Feet\",BASEGEOGCRS[\"GCS_North_American_1983\",DATUM[\"D_North_American_1983\",ELLIPSOID[\"GRS_1980\",6378137.0,298.257222101,LENGTHUNIT[\"Meter\",1.0]]],PRIMEM[\"Greenwich\",0.0,ANGLEUNIT[\"Degree\",0.0174532925199433]],CS[ellipsoidal,2],ANGLEUNIT[\"Degree\",0.0174532925199433]],CONVERSION[\"Lambert_Conformal_Conic\",METHOD[\"Lambert_Conformal_Conic\"],PARAMETER[\"False_Easting\",1312333.333,LENGTHUNIT[\"Foot_US\",0.3048006096012192]],PARAMETER[\"False_Northing\",0.0,LENGTHUNIT[\"Foot_US\",0.3048006096012192]],PARAMETER[\"Central_Meridian\",-77.0,ANGLEUNIT[\"Degree\",0.0174532925199433]],PARAMETER[\"Standard_Parallel_1\",38.3,ANGLEUNIT[\"Degree\",0.0174532925199433]],PARAMETER[\"Standard_Parallel_2\",39.45,ANGLEUNIT[\"Degree\",0.0174532925199433]],PARAMETER[\"Latitude_Of_Origin\",37.6666666666667,ANGLEUNIT[\"Degree\",0.0174532925199433]]],CS[Cartesian,2],AXIS[\"Easting (X)\",east,ORDER[1]],AXIS[\"Northing (Y)\",north,ORDER[2]],LENGTHUNIT[\"Foot_US\",0.3048006096012192]]",
"wkt": "PROJCS[\"NAD_1983_StatePlane_Maryland_FIPS_1900_Feet\",GEOGCS[\"GCS_North_American_1983\",DATUM[\"D_North_American_1983\",SPHEROID[\"GRS_1980\",6378137.0,298.257222101]],PRIMEM[\"Greenwich\",0.0],UNIT[\"Degree\",0.0174532925199433]],PROJECTION[\"Lambert_Conformal_Conic\"],PARAMETER[\"False_Easting\",1312333.333],PARAMETER[\"False_Northing\",0.0],PARAMETER[\"Central_Meridian\",-77.0],PARAMETER[\"Standard_Parallel_1\",38.3],PARAMETER[\"Standard_Parallel_2\",39.45],PARAMETER[\"Latitude_Of_Origin\",37.6666666666667],UNIT[\"Foot_US\",0.3048006096012192]]"
}
},
"fullExtent": {
"xmin": 1233574.8806561048,
"ymin": 90450.70518216467,
"xmax": 1871598.8806561048,
"ymax": 716879.7051821647,
"spatialReference": {
"wkt2": "PROJCRS[\"NAD_1983_StatePlane_Maryland_FIPS_1900_Feet\",BASEGEOGCRS[\"GCS_North_American_1983\",DATUM[\"D_North_American_1983\",ELLIPSOID[\"GRS_1980\",6378137.0,298.257222101,LENGTHUNIT[\"Meter\",1.0]]],PRIMEM[\"Greenwich\",0.0,ANGLEUNIT[\"Degree\",0.0174532925199433]],CS[ellipsoidal,2],ANGLEUNIT[\"Degree\",0.0174532925199433]],CONVERSION[\"Lambert_Conformal_Conic\",METHOD[\"Lambert_Conformal_Conic\"],PARAMETER[\"False_Easting\",1312333.333,LENGTHUNIT[\"Foot_US\",0.3048006096012192]],PARAMETER[\"False_Northing\",0.0,LENGTHUNIT[\"Foot_US\",0.3048006096012192]],PARAMETER[\"Central_Meridian\",-77.0,ANGLEUNIT[\"Degree\",0.0174532925199433]],PARAMETER[\"Standard_Parallel_1\",38.3,ANGLEUNIT[\"Degree\",0.0174532925199433]],PARAMETER[\"Standard_Parallel_2\",39.45,ANGLEUNIT[\"Degree\",0.0174532925199433]],PARAMETER[\"Latitude_Of_Origin\",37.6666666666667,ANGLEUNIT[\"Degree\",0.0174532925199433]]],CS[Cartesian,2],AXIS[\"Easting (X)\",east,ORDER[1]],AXIS[\"Northing (Y)\",north,ORDER[2]],LENGTHUNIT[\"Foot_US\",0.3048006096012192]]",
"wkt": "PROJCS[\"NAD_1983_StatePlane_Maryland_FIPS_1900_Feet\",GEOGCS[\"GCS_North_American_1983\",DATUM[\"D_North_American_1983\",SPHEROID[\"GRS_1980\",6378137.0,298.257222101]],PRIMEM[\"Greenwich\",0.0],UNIT[\"Degree\",0.0174532925199433]],PROJECTION[\"Lambert_Conformal_Conic\"],PARAMETER[\"False_Easting\",1312333.333],PARAMETER[\"False_Northing\",0.0],PARAMETER[\"Central_Meridian\",-77.0],PARAMETER[\"Standard_Parallel_1\",38.3],PARAMETER[\"Standard_Parallel_2\",39.45],PARAMETER[\"Latitude_Of_Origin\",37.6666666666667],UNIT[\"Foot_US\",0.3048006096012192]]"
}
},
"sortableFields": "",
"bandCount": 1,
"pixelType": "F32",
"minValues": [
0
],
"maxValues": [
14.304174423218
],
"meanValues": [
7.0844843931241
],
"stdvValues": [
2.9557107191453
],
"hasMultidimensions": false,
"pixelSizeX": 1,
"pixelSizeY": 1,
"meanPixelSize": 0.30480060960121924,
"datasetFormat": "TIFF",
"uncompressedSize": 1598706945184,
"blockWidth": 512,
"blockHeight": 512,
"compressionType": "LZW",
"bandNames": [
"Band_1"
],
"allowCopy": true,
"allowAnalysis": true,
"itemAccess": false,
"inspectionCapabilities": "",
"noDataValue": 3.3999999521443642E38,
"noDataValues": [
3.3999999521443642E38
],
"minPixelSize": 0,
"maxPixelSize": 0,
"copyrightText": "This data was created by the Maryland Environmental Service (MES) in partnership with the Maryland Department of Environment (MDE) and the Coast Smart Council, under the guidance of the Maryland Department of Natural Resource (DNR).",
"serviceDataType": "esriImageServiceDataTypeGeneric",
"serviceSourceType": "esriImageServiceSourceTypeDataset",
"objectIdField": "",
"fields": [],
"capabilities": "Image,Metadata,Mensuration",
"defaultMosaicMethod": "Center",
"allowedMosaicMethods": "",
"sortField": "",
"sortValue": null,
"sortAscending": true,
"mosaicOperator": "First",
"defaultCompressionQuality": 75,
"defaultResamplingMethod": "Bilinear",
"maxImageHeight": 4100,
"maxImageWidth": 15000,
"allowRasterFunction": true,
"rasterFunctionInfos": [
{
"name": "None",
"description": "",
"help": ""
}
],
"rasterTypeInfos": [
{
"name": "Raster Dataset",
"description": "Supports all ArcGIS Raster Datasets",
"help": ""
}
],
"mensurationCapabilities": "Basic",
"hasHistograms": true,
"hasColormap": false,
"hasRasterAttributeTable": false,
"minScale": 0,
"maxScale": 0,
"exportTilesAllowed": false,
"supportsStatistics": false,
"supportsAdvancedQueries": false,
"editFieldsInfo": null,
"ownershipBasedAccessControlForRasters": null,
"allowComputeTiePoints": false,
"useStandardizedQueries": true,
"advancedQueryCapabilities": {
"useStandardizedQueries": true,
"supportsStatistics": false,
"supportsOrderBy": false,
"supportsDistinct": false,
"supportsPagination": false
},
"spatialReference": {
"wkt2": "PROJCRS[\"NAD_1983_StatePlane_Maryland_FIPS_1900_Feet\",BASEGEOGCRS[\"GCS_North_American_1983\",DATUM[\"D_North_American_1983\",ELLIPSOID[\"GRS_1980\",6378137.0,298.257222101,LENGTHUNIT[\"Meter\",1.0]]],PRIMEM[\"Greenwich\",0.0,ANGLEUNIT[\"Degree\",0.0174532925199433]],CS[ellipsoidal,2],ANGLEUNIT[\"Degree\",0.0174532925199433]],CONVERSION[\"Lambert_Conformal_Conic\",METHOD[\"Lambert_Conformal_Conic\"],PARAMETER[\"False_Easting\",1312333.333,LENGTHUNIT[\"Foot_US\",0.3048006096012192]],PARAMETER[\"False_Northing\",0.0,LENGTHUNIT[\"Foot_US\",0.3048006096012192]],PARAMETER[\"Central_Meridian\",-77.0,ANGLEUNIT[\"Degree\",0.0174532925199433]],PARAMETER[\"Standard_Parallel_1\",38.3,ANGLEUNIT[\"Degree\",0.0174532925199433]],PARAMETER[\"Standard_Parallel_2\",39.45,ANGLEUNIT[\"Degree\",0.0174532925199433]],PARAMETER[\"Latitude_Of_Origin\",37.6666666666667,ANGLEUNIT[\"Degree\",0.0174532925199433]]],CS[Cartesian,2],AXIS[\"Easting (X)\",east,ORDER[1]],AXIS[\"Northing (Y)\",north,ORDER[2]],LENGTHUNIT[\"Foot_US\",0.3048006096012192]]",
"wkt": "PROJCS[\"NAD_1983_StatePlane_Maryland_FIPS_1900_Feet\",GEOGCS[\"GCS_North_American_1983\",DATUM[\"D_North_American_1983\",SPHEROID[\"GRS_1980\",6378137.0,298.257222101]],PRIMEM[\"Greenwich\",0.0],UNIT[\"Degree\",0.0174532925199433]],PROJECTION[\"Lambert_Conformal_Conic\"],PARAMETER[\"False_Easting\",1312333.333],PARAMETER[\"False_Northing\",0.0],PARAMETER[\"Central_Meridian\",-77.0],PARAMETER[\"Standard_Parallel_1\",38.3],PARAMETER[\"Standard_Parallel_2\",39.45],PARAMETER[\"Latitude_Of_Origin\",37.6666666666667],UNIT[\"Foot_US\",0.3048006096012192]]"
}
}