{ "currentVersion": 11.3, "serviceDescription": "
This cached Image Service of Maryland Property Data allows for the manipulation of the display properties of the Statewide Tax Maps dataset.<\/SPAN><\/P><\/DIV>",
"name": "PlanningCadastre/MD_PropertyData",
"description": " This cached Image Service of Maryland Property Data allows for the manipulation of the display properties of the Statewide Tax Maps dataset.<\/span><\/p><\/div>",
"extent": {
"xmin": -8855172.817836793,
"ymin": 4560170.1762005035,
"xmax": -8348262.600699164,
"ymax": 4830397.464766555,
"spatialReference": {
"wkid": 102100,
"latestWkid": 3857
}
},
"initialExtent": {
"xmin": -8855172.817836793,
"ymin": 4560170.1762005035,
"xmax": -8348262.600699164,
"ymax": 4830397.464766555,
"spatialReference": {
"wkid": 102100,
"latestWkid": 3857
}
},
"fullExtent": {
"xmin": -8855172.817836793,
"ymin": 4560170.1762005035,
"xmax": -8348262.600699164,
"ymax": 4830397.464766555,
"spatialReference": {
"wkid": 102100,
"latestWkid": 3857
}
},
"sortableFields": "",
"bandCount": 3,
"pixelType": "U8",
"minValues": [],
"maxValues": [],
"meanValues": [],
"stdvValues": [],
"hasMultidimensions": false,
"pixelSizeX": 0.14929107082380833,
"pixelSizeY": 0.1492910708238085,
"meanPixelSize": 0.1492910708238084,
"datasetFormat": "AFR",
"uncompressedSize": 18438001114290,
"blockWidth": 512,
"blockHeight": 512,
"compressionType": "None",
"bandNames": [
"Band_1",
"Band_2",
"Band_3"
],
"allowCopy": true,
"allowAnalysis": true,
"itemAccess": false,
"inspectionCapabilities": "",
"minPixelSize": 0,
"maxPixelSize": 0,
"copyrightText": "MD iMAP, MDP",
"serviceDataType": "esriImageServiceDataTypeRGB",
"serviceSourceType": "esriImageServiceSourceTypeDataset",
"objectIdField": "",
"fields": [],
"capabilities": "Image,Metadata,Mensuration",
"defaultMosaicMethod": "Center",
"allowedMosaicMethods": "",
"sortField": "",
"sortValue": null,
"sortAscending": true,
"mosaicOperator": "First",
"defaultCompressionQuality": 75,
"defaultResamplingMethod": "Bilinear",
"maxImageHeight": 4100,
"maxImageWidth": 15000,
"allowRasterFunction": true,
"rasterFunctionInfos": [
{
"name": "RGB to Single Band",
"description": "Convert RGB to single band (R).",
"help": ""
},
{
"name": "None",
"description": "",
"help": ""
}
],
"rasterTypeInfos": [
{
"name": "Raster Dataset",
"description": "Supports all ArcGIS Raster Datasets",
"help": ""
}
],
"mensurationCapabilities": "Basic",
"hasHistograms": false,
"hasColormap": false,
"hasRasterAttributeTable": false,
"minScale": 0,
"maxScale": 0,
"exportTilesAllowed": false,
"supportsStatistics": false,
"supportsAdvancedQueries": false,
"editFieldsInfo": null,
"ownershipBasedAccessControlForRasters": null,
"allowComputeTiePoints": false,
"useStandardizedQueries": true,
"advancedQueryCapabilities": {
"useStandardizedQueries": true,
"supportsStatistics": false,
"supportsOrderBy": false,
"supportsDistinct": false,
"supportsPagination": false
},
"spatialReference": {
"wkid": 102100,
"latestWkid": 3857
}
}