{
 "currentVersion": 11.3,
 "serviceDescription": "These lidar data are processed Quality Level 1 (QL1) Bare-Earth DEM files, formatted to formatted to 2211 individual 1800 m x 1200 m tiles at 0.5 meter resolution. Geographic Extent: Geographic Extent: Four counties of Maryland, including Kent, Talbot, Caroline, and Dorchester counties. Dataset Description: The Delaware 2023, Work Unit 300433 Lidar project called for the Planning, Acquisition, processing and derivative products of lidar data to be collected at a nominal pulse spacing (NPS) of 0.35 meters for QL1 data. Project specifications are based on the U.S. Geological Survey National Geospatial Program Base Lidar Specification 2023, revision A. The data was developed based on a horizontal projection/datum of NAD83 (2011), State Plane Maryland FIPS 1900, meters and vertical datum of NAVD88 (GEOID18), meters. Lidar data was delivered as processed Classified LAS 1.4 files, formatted to 4791 individual formatted to 2211 individual 1800 m x 1200 m tiles and as tiled bare earth DEMs; all tiled to the same 1800 m x 1200 m schema. Ground Conditions: Lidar was collected in the spring 2023, while no snow was on the ground and waterways were at low tide. In order to post process the lidar data to meet task order specifications and meet ASPRS vertical accuracy guidelines, a total of 197 checkpoints were used to calibrate the lidar to known ground locations established throughout the project area. A total of 110 Non-Vegetated Vertical Accuracy (NVA) points were used. A total of 87 Vegetated Vertical Accuracy (VVA) points were used. These checkpoints were not used to calibrate or post process the data.\nDEM tiles in this collection have been hydro-flattened using breaklines with a downstream constraint rather than assigning a single flat elevation across the river. This process can cause slight variations in river elevations which are not easily detected when inspecting the DEM. Those variations however can become amplified in slope and aspect products and result in artifacts such as a tinning effect in the water. These artifacts are expected and not considered errors in the data.",
 "name": "Caroline/MD_caroline_shadedRelief_RGB",
 "description": "These lidar data are processed Quality Level 1 (QL1) Bare-Earth DEM files, formatted to formatted to 2211 individual 1800 m x 1200 m tiles at 0.5 meter resolution. Geographic Extent: Geographic Extent: Four counties of Maryland, including Kent, Talbot, Caroline, and Dorchester counties. Dataset Description: The Delaware 2023, Work Unit 300433 Lidar project called for the Planning, Acquisition, processing and derivative products of lidar data to be collected at a nominal pulse spacing (NPS) of 0.35 meters for QL1 data. Project specifications are based on the U.S. Geological Survey National Geospatial Program Base Lidar Specification 2023, revision A. The data was developed based on a horizontal projection/datum of NAD83 (2011), State Plane Maryland FIPS 1900, meters and vertical datum of NAVD88 (GEOID18), meters. Lidar data was delivered as processed Classified LAS 1.4 files, formatted to 4791 individual formatted to 2211 individual 1800 m x 1200 m tiles and as tiled bare earth DEMs; all tiled to the same 1800 m x 1200 m schema. Ground Conditions: Lidar was collected in the spring 2023, while no snow was on the ground and waterways were at low tide. In order to post process the lidar data to meet task order specifications and meet ASPRS vertical accuracy guidelines, a total of 197 checkpoints were used to calibrate the lidar to known ground locations established throughout the project area. A total of 110 Non-Vegetated Vertical Accuracy (NVA) points were used. A total of 87 Vegetated Vertical Accuracy (VVA) points were used. These checkpoints were not used to calibrate or post process the data.\nDEM tiles in this collection have been hydro-flattened using breaklines with a downstream constraint rather than assigning a single flat elevation across the river. This process can cause slight variations in river elevations which are not easily detected when inspecting the DEM. Those variations however can become amplified in slope and aspect products and result in artifacts such as a tinning effect in the water. These artifacts are expected and not considered errors in the data.",
 "extent": {
  "xmin": 484199.6221999973,
  "ymin": 106799.9792000018,
  "xmax": 512966.1221999973,
  "ymax": 165254.9792000018,
  "spatialReference": {
   "wkid": 103068,
   "latestWkid": 6487,
   "vcsWkid": 5703,
   "latestVcsWkid": 5703
  }
 },
 "initialExtent": {
  "xmin": 484199.6221999973,
  "ymin": 106799.9792000018,
  "xmax": 512966.1221999973,
  "ymax": 165254.9792000018,
  "spatialReference": {
   "wkid": 103068,
   "latestWkid": 6487,
   "vcsWkid": 5703,
   "latestVcsWkid": 5703
  }
 },
 "fullExtent": {
  "xmin": 484199.6221999973,
  "ymin": 106799.9792000018,
  "xmax": 512966.1221999973,
  "ymax": 165254.9792000018,
  "spatialReference": {
   "wkid": 103068,
   "latestWkid": 6487,
   "vcsWkid": 5703,
   "latestVcsWkid": 5703
  }
 },
 "sortableFields": "MinPS,MaxPS,LowPS,HighPS,CenterX,CenterY,ZOrder,Shape_Length,Shape_Area",
 "heightModelInfo": {
  "heightModel": "gravity_related_height",
  "vertCRS": "NAVD_1988",
  "heightUnit": "meter"
 },
 "bandCount": 3,
 "pixelType": "U8",
 "minValues": [
  0,
  0,
  0
 ],
 "maxValues": [
  255,
  255,
  255
 ],
 "meanValues": [
  158.15360876868598,
  97.27493288113983,
  45.4429028182233
 ],
 "stdvValues": [
  42.49677651997649,
  61.41713218889446,
  35.33384381515241
 ],
 "hasMultidimensions": false,
 "pixelSizeX": 0.5,
 "pixelSizeY": 0.5,
 "meanPixelSize": 0.5,
 "datasetFormat": "AMD",
 "uncompressedSize": 20178549090,
 "blockWidth": 2048,
 "blockHeight": 256,
 "compressionType": "None",
 "bandNames": [
  "Band_1",
  "Band_2",
  "Band_3"
 ],
 "allowCopy": true,
 "allowAnalysis": true,
 "itemAccess": false,
 "inspectionCapabilities": "",
 "minPixelSize": 0,
 "maxPixelSize": 0,
 "copyrightText": "",
 "serviceDataType": "esriImageServiceDataTypeRGB",
 "serviceSourceType": "esriImageServiceSourceTypeMosaicDataset",
 "objectIdField": "OBJECTID",
 "fields": [
  {
   "name": "OBJECTID",
   "type": "esriFieldTypeOID",
   "alias": "OBJECTID",
   "domain": null
  },
  {
   "name": "Shape",
   "type": "esriFieldTypeGeometry",
   "alias": "Shape",
   "domain": null
  },
  {
   "name": "Name",
   "type": "esriFieldTypeString",
   "alias": "Name",
   "domain": null,
   "length": 200
  },
  {
   "name": "MinPS",
   "type": "esriFieldTypeDouble",
   "alias": "MinPS",
   "domain": null
  },
  {
   "name": "MaxPS",
   "type": "esriFieldTypeDouble",
   "alias": "MaxPS",
   "domain": null
  },
  {
   "name": "LowPS",
   "type": "esriFieldTypeDouble",
   "alias": "LowPS",
   "domain": null
  },
  {
   "name": "HighPS",
   "type": "esriFieldTypeDouble",
   "alias": "HighPS",
   "domain": null
  },
  {
   "name": "Category",
   "type": "esriFieldTypeInteger",
   "alias": "Category",
   "domain": {
    "type": "codedValue",
    "name": "MosaicCatalogItemCategoryDomain",
    "description": "Catalog item categories.",
    "codedValues": [
     {
      "name": "Unknown",
      "code": 0
     },
     {
      "name": "Primary",
      "code": 1
     },
     {
      "name": "Overview",
      "code": 2
     },
     {
      "name": "Unprocessed Overview",
      "code": 3
     },
     {
      "name": "Partial Overview",
      "code": 4
     },
     {
      "name": "Inactive",
      "code": 5
     },
     {
      "name": "Uploaded",
      "code": 253
     },
     {
      "name": "Incomplete",
      "code": 254
     },
     {
      "name": "Custom",
      "code": 255
     }
    ],
    "mergePolicy": "esriMPTDefaultValue",
    "splitPolicy": "esriSPTDefaultValue"
   }
  },
  {
   "name": "Tag",
   "type": "esriFieldTypeString",
   "alias": "Tag",
   "domain": null,
   "length": 100
  },
  {
   "name": "GroupName",
   "type": "esriFieldTypeString",
   "alias": "GroupName",
   "domain": null,
   "length": 100
  },
  {
   "name": "ProductName",
   "type": "esriFieldTypeString",
   "alias": "ProductName",
   "domain": null,
   "length": 100
  },
  {
   "name": "CenterX",
   "type": "esriFieldTypeDouble",
   "alias": "CenterX",
   "domain": null
  },
  {
   "name": "CenterY",
   "type": "esriFieldTypeDouble",
   "alias": "CenterY",
   "domain": null
  },
  {
   "name": "ZOrder",
   "type": "esriFieldTypeInteger",
   "alias": "ZOrder",
   "domain": null
  },
  {
   "name": "Shape_Length",
   "type": "esriFieldTypeDouble",
   "alias": "Shape_Length",
   "domain": null
  },
  {
   "name": "Shape_Area",
   "type": "esriFieldTypeDouble",
   "alias": "Shape_Area",
   "domain": null
  }
 ],
 "capabilities": "Image,Metadata,Catalog",
 "defaultMosaicMethod": "Northwest",
 "allowedMosaicMethods": "NorthWest,Center,LockRaster,ByAttribute,Nadir,Viewpoint,Seamline,None",
 "sortField": "",
 "sortValue": null,
 "sortAscending": true,
 "mosaicOperator": "First",
 "maxDownloadSizeLimit": 2048,
 "defaultCompressionQuality": 75,
 "defaultResamplingMethod": "Bilinear",
 "maxImageHeight": 4100,
 "maxImageWidth": 15000,
 "maxRecordCount": 1000,
 "maxDownloadImageCount": 20,
 "maxMosaicImageCount": 20,
 "allowRasterFunction": true,
 "rasterFunctionInfos": [
  {
   "name": "None",
   "description": "",
   "help": ""
  }
 ],
 "rasterTypeInfos": [
  {
   "name": "Raster Dataset",
   "description": "Supports all ArcGIS Raster Datasets",
   "help": ""
  }
 ],
 "mensurationCapabilities": "",
 "hasHistograms": true,
 "hasColormap": false,
 "hasRasterAttributeTable": false,
 "minScale": 0,
 "maxScale": 0,
 "exportTilesAllowed": false,
 "supportsStatistics": true,
 "supportsAdvancedQueries": true,
 "editFieldsInfo": null,
 "ownershipBasedAccessControlForRasters": null,
 "allowComputeTiePoints": false,
 "useStandardizedQueries": true,
 "advancedQueryCapabilities": {
  "useStandardizedQueries": true,
  "supportsStatistics": true,
  "supportsOrderBy": true,
  "supportsDistinct": true,
  "supportsPagination": true
 },
 "spatialReference": {
  "wkid": 103068,
  "latestWkid": 6487,
  "vcsWkid": 5703,
  "latestVcsWkid": 5703
 }
}
