View In:
ArcGIS JavaScript
ArcGIS Online Map Viewer
ArcGIS Earth
Service Description: Digital color composite images of topographic quadrangle maps were produced by scanning a set of the USGS 7.5' topographic quadrangle maps covering the state of Maryland. The hardcopy source maps used for scanning were produced by USGS on loftrite, a white opaque stable base medium. The hardcopy maps were scanned at 250 dpi in 8-bit color by STS Systems of Parker, Colorado. The scanned images include all map collar information. The digital images and hard copy meet National Map Accuracy Standards at 1:24,000.
Name: Elevation/MD_ArchivedUSGSTopoQuads
Description: Digital color composite images of topographic quadrangle maps were produced by scanning a set of the USGS 7.5' topographic quadrangle maps covering the state of Maryland. The hardcopy source maps used for scanning were produced by USGS on loftrite, a white opaque stable base medium. The hardcopy maps were scanned at 250 dpi in 8-bit color by STS Systems of Parker, Colorado. The scanned images include all map collar information. The digital images and hard copy meet National Map Accuracy Standards at 1:24,000.
Single Fused Map Cache: false
Extent:
XMin: -8850370.956389327
YMin: 4561577.842764847
XMax: -8348531.0361095825
YMax: 4830068.669039087
Spatial Reference: 102100
(3857)
LatestVCSWkid(0)
Initial Extent:
XMin: -8850370.956389327
YMin: 4561577.842764847
XMax: -8348531.0361095825
YMax: 4830068.669039087
Spatial Reference: 102100
(3857)
LatestVCSWkid(0)
Full Extent:
XMin: -8850370.956389327
YMin: 4561577.842764847
XMax: -8348531.0361095825
YMax: 4830068.669039087
Spatial Reference: 102100
(3857)
LatestVCSWkid(0)
Pixel Size X: 2.4365064320000003
Pixel Size Y: 2.4365064320000034
Band Count: 3
Pixel Type: U8
RasterFunction Infos: {"rasterFunctionInfos": [{
"name": "None",
"description": "A No-Op Function.",
"help": ""
}]}
Mensuration Capabilities: None
Inspection Capabilities:
Has Histograms: true
Has Colormap: false
Has Multi Dimensions : false
Rendering Rule:
Min Scale: 0
Max Scale: 0
Copyright Text: MD iMAP, USGS
Service Data Type: esriImageServiceDataTypeRGB
Min Values: 0, 0, 0
Max Values: 239, 243, 239
Mean Values: 185.57772977178152, 203.7750533798575, 181.41130712232436
Standard Deviation Values: 35.01580307901442, 44.19799905395968, 39.70954651515467
Object ID Field: OBJECTID
Fields:
-
OBJECTID
(
type: esriFieldTypeOID, alias: OBJECTID
)
-
Name
(
type: esriFieldTypeString, alias: Name, length: 200
)
-
MinPS
(
type: esriFieldTypeDouble, alias: MinPS
)
-
MaxPS
(
type: esriFieldTypeDouble, alias: MaxPS
)
-
LowPS
(
type: esriFieldTypeDouble, alias: LowPS
)
-
HighPS
(
type: esriFieldTypeDouble, alias: HighPS
)
-
Category
(
type: esriFieldTypeInteger, alias: Category
, Coded Values:
[0: Unknown]
, [1: Primary]
, [2: Overview]
, ...6 more...
)
-
Tag
(
type: esriFieldTypeString, alias: Tag, length: 100
)
-
GroupName
(
type: esriFieldTypeString, alias: GroupName, length: 100
)
-
ProductName
(
type: esriFieldTypeString, alias: ProductName, length: 100
)
-
CenterX
(
type: esriFieldTypeDouble, alias: CenterX
)
-
CenterY
(
type: esriFieldTypeDouble, alias: CenterY
)
-
ZOrder
(
type: esriFieldTypeInteger, alias: ZOrder
)
-
Shape
(
type: esriFieldTypeGeometry, alias: Shape
)
Default Mosaic Method: Northwest
Allowed Mosaic Methods: NorthWest,Center,LockRaster,ByAttribute,Nadir,Viewpoint,Seamline,None
SortField:
SortValue: null
Mosaic Operator: Min
Default Compression Quality: 75
Default Resampling Method: Bilinear
Max Record Count: 1000
Max Image Height: 4100
Max Image Width: 15000
Max Download Image Count: 20
Max Mosaic Image Count: 260
Allow Raster Function: true
Allow Copy: true
Allow Analysis: true
Allow Compute TiePoints: false
Supports Statistics: true
Supports Advanced Queries: true
Use StandardizedQueries: true
Raster Type Infos:
Name: Raster Dataset
Description: Supports all ArcGIS Raster Datasets
Help:
Has Raster Attribute Table: false
Edit Fields Info: null
Ownership Based AccessControl For Rasters: null
Child Resources:
Info
Histograms
Statistics
Key Properties
Legend
Raster Function Infos
Supported Operations:
Export Image
Query
Identify
Compute Histograms
Compute Statistics Histograms
Get Samples
Compute Class Statistics
Query GPS Info
Find Images
Image to Map
Map to Image
Measure from Image
Image to Map Multiray
Query Boundary
Compute Pixel Location
Compute Angles
Validate
Project