View In:
ArcGIS JavaScript
ArcGIS Online Map Viewer
ArcGIS Earth
ArcGIS Pro
Service Description: This service shows Wetland Adaptation Areas as a result of climate change. The purpose of developing Wetland Adaptation Areas was to address climate change adaptation in response to the accumulative affects of localized land subsidence and global sea level rise, as well as to increase Maryland's resilience to other coastal hazards such as storm surge, flooding and erosion. Last Updated: 2011
Map Name: Layers
Legend
All Layers and Tables
Dynamic Legend
Dynamic All Layers
Layers:
Description: This service shows Wetland Adaptation Areas as a result of climate change. The purpose of developing Wetland Adaptation Areas was to address climate change adaptation in response to the accumulative affects of localized land subsidence and global sea level rise, as well as to increase Maryland's resilience to other coastal hazards such as storm surge, flooding and erosion. Last Updated: 2011
Copyright Text: MD iMAP, DNR
Spatial Reference:
102100
(3857)
LatestVCSWkid(0)
Single Fused Map Cache: true
Tile Info:
- Height: 256.0
- Width: 256.0
- DPI: 96.0
-
Levels of Detail: 20
-
Level ID: 0
[ Start Tile, End Tile ]
- Resolution: 156543.03392800014
- Scale: 5.91657527591555E8
-
Level ID: 1
[ Start Tile, End Tile ]
- Resolution: 78271.51696399994
- Scale: 2.95828763795777E8
-
Level ID: 2
[ Start Tile, End Tile ]
- Resolution: 39135.75848200009
- Scale: 1.47914381897889E8
-
Level ID: 3
[ Start Tile, End Tile ]
- Resolution: 19567.87924099992
- Scale: 7.3957190948944E7
-
Level ID: 4
[ Start Tile, End Tile ]
- Resolution: 9783.93962049996
- Scale: 3.6978595474472E7
-
Level ID: 5
[ Start Tile, End Tile ]
- Resolution: 4891.96981024998
- Scale: 1.8489297737236E7
- Format: MIXED
- Compression Quality: 75.0
- Origin: X: -2.0037508342787E7
Y: 2.0037508342787E7
- Spatial Reference: 102100
(3857)
LatestVCSWkid(0)
Storage Info:
- Storage Format: esriMapCacheStorageModeCompactV2
- Packet Size: 128
Initial Extent:
XMin: -8608794.265449343
YMin: 4589370.623858294
XMax: -8347247.361850658
YMax: 4803596.652741709
Spatial Reference: 102100
(0)
LatestVCSWkid(0)
Full Extent:
XMin: -8601610.253295898
YMin: 4567612.433288574
XMax: -8354431.3740234375
YMax: 4825354.843505859
Spatial Reference: 102100
(0)
LatestVCSWkid(0)
Units: esriMeters
Supported Image Format Types: PNG32,PNG24,PNG,JPG,DIB,TIFF,EMF,PS,PDF,GIF,SVG,SVGZ,BMP
Document Info:
Title: Maryland Sea Level Rise Wetland Adaptation Areas
Author:
Comments: This service shows Wetland Adaptation Areas as a result of climate change. The purpose of developing Wetland Adaptation Areas was to address climate change adaptation in response to the accumulative affects of localized land subsidence and global sea level rise, as well as to increase Maryland's resilience to other coastal hazards such as storm surge, flooding and erosion. Last Updated: 2011
Subject: Map service shows Wetland Adaptation Areas as a result of climate change.
Category:
Keywords: Weather,Sea Level Rise,Wetlands,WEAT,MD iMAP,WMS,WFS,KML,Dynamic,MD,Maryland
AntialiasingMode: Fast
TextAntialiasingMode: Force
Supports Dynamic Layers: true
MaxRecordCount: 1000
MaxImageHeight: 4096
MaxImageWidth: 4096
Supported Query Formats: JSON, geoJSON, PBF
Supports Query Data Elements: true
Min Scale: 5.91657527591555E8
Max Scale: 1128.497176
Supports Datum Transformation: true
Child Resources:
Info
Dynamic Layer
Supported Operations:
Export Map
Identify
QueryLegends
QueryDomains
Find
Return Updates