View In:
ArcGIS JavaScript
ArcGIS Online Map Viewer
ArcGIS Earth
Service Description: This layer is a mosaic of historical topographic maps retrieved online from USGS topoView (https://ngmdb.usgs.gov/topoview/). 63k scale range topographic maps with a 15-minute range were downloaded to cover the state of Maryland, where available. Maps selected for this mosaic were compared visually to find the oldest edition of best visual quality. The mosaic contains maps with edition years dating between 1892 and 1930. If necessary, a later map edition was used if the oldest edition did not match visual quality of the surrounding quadrants. The map collar containing the legend, scales, grid information, declination data, etc. was removed using the clipping tool to enable a seamless appearance between each quadrangle. ESRI ArcGIS Pro was used to clip and generate a statewide mosaic.
Name: Historical/MD_USGS_15MQuad
Description: This layer is a mosaic of historical topographic maps retrieved online from USGS topoView (https://ngmdb.usgs.gov/topoview/). 63k scale range topographic maps with a 15-minute range were downloaded to cover the state of Maryland, where available. Maps selected for this mosaic were compared visually to find the oldest edition of best visual quality. The mosaic contains maps with edition years dating between 1892 and 1930. If necessary, a later map edition was used if the oldest edition did not match visual quality of the surrounding quadrants. The map collar containing the legend, scales, grid information, declination data, etc. was removed using the clipping tool to enable a seamless appearance between each quadrangle. ESRI ArcGIS Pro was used to clip and generate a statewide mosaic.
Single Fused Map Cache: false
Extent:
XMin: -8852825.8857
YMin: 4541537.299400002
XMax: -8342845.8857
YMax: 4833877.299400002
Spatial Reference: 102100
(3857)
LatestVCSWkid(0)
Initial Extent:
XMin: -8852825.8857
YMin: 4541537.299400002
XMax: -8342845.8857
YMax: 4833877.299400002
Spatial Reference: 102100
(3857)
LatestVCSWkid(0)
Full Extent:
XMin: -8852825.8857
YMin: 4541537.299400002
XMax: -8342845.8857
YMax: 4833877.299400002
Spatial Reference: 102100
(3857)
LatestVCSWkid(0)
Pixel Size X: 5.0
Pixel Size Y: 5.0
Band Count: 3
Pixel Type: U8
RasterFunction Infos: {"rasterFunctionInfos": [{
"name": "None",
"description": "",
"help": ""
}]}
Mensuration Capabilities: Basic
Inspection Capabilities:
Has Histograms: false
Has Colormap: false
Has Multi Dimensions : false
Rendering Rule:
Min Scale: 0
Max Scale: 0
Copyright Text: MD iMAP, MDOT SHA, USGS
Service Data Type: esriImageServiceDataTypeRGB
Min Values: N/A
Max Values: N/A
Mean Values: N/A
Standard Deviation Values: N/A
Object ID Field: OBJECTID
Fields:
-
OBJECTID
(
type: esriFieldTypeOID, alias: OBJECTID
)
-
Shape
(
type: esriFieldTypeGeometry, alias: Shape
)
-
Name
(
type: esriFieldTypeString, alias: Name, length: 200
)
-
MinPS
(
type: esriFieldTypeDouble, alias: MinPS
)
-
MaxPS
(
type: esriFieldTypeDouble, alias: MaxPS
)
-
LowPS
(
type: esriFieldTypeDouble, alias: LowPS
)
-
HighPS
(
type: esriFieldTypeDouble, alias: HighPS
)
-
Category
(
type: esriFieldTypeInteger, alias: Category
, Coded Values:
[0: Unknown]
, [1: Primary]
, [2: Overview]
, ...6 more...
)
-
Tag
(
type: esriFieldTypeString, alias: Tag, length: 100
)
-
GroupName
(
type: esriFieldTypeString, alias: GroupName, length: 100
)
-
ProductName
(
type: esriFieldTypeString, alias: ProductName, length: 100
)
-
CenterX
(
type: esriFieldTypeDouble, alias: CenterX
)
-
CenterY
(
type: esriFieldTypeDouble, alias: CenterY
)
-
ZOrder
(
type: esriFieldTypeInteger, alias: ZOrder
)
-
Shape_Length
(
type: esriFieldTypeDouble, alias: Shape_Length
)
-
Shape_Area
(
type: esriFieldTypeDouble, alias: Shape_Area
)
Default Mosaic Method: Northwest
Allowed Mosaic Methods: NorthWest,Center,LockRaster,ByAttribute,Nadir,Viewpoint,Seamline,None
SortField:
SortValue: null
Mosaic Operator: First
Default Compression Quality: 75
Default Resampling Method: Bilinear
Max Record Count: 1000
Max Image Height: 4100
Max Image Width: 15000
Max Download Image Count: 20
Max Mosaic Image Count: 20
Allow Raster Function: true
Allow Copy: true
Allow Analysis: true
Allow Compute TiePoints: false
Supports Statistics: true
Supports Advanced Queries: true
Use StandardizedQueries: true
Raster Type Infos:
Name: Raster Dataset
Description: Supports all ArcGIS Raster Datasets
Help:
Has Raster Attribute Table: false
Edit Fields Info: null
Ownership Based AccessControl For Rasters: null
Child Resources:
Info
Statistics
Key Properties
Legend
Raster Function Infos
Supported Operations:
Export Image
Query
Identify
Measure
Compute Histograms
Compute Statistics Histograms
Get Samples
Compute Class Statistics
Query GPS Info
Find Images
Image to Map
Map to Image
Measure from Image
Image to Map Multiray
Query Boundary
Compute Pixel Location
Compute Angles
Validate
Project