View In:
ArcGIS JavaScript
ArcGIS Online Map Viewer
ArcGIS Earth
Service Description: This image service provides Pre-Event imagery flown in 2016 (2/2/16). The imagery is not specific to any prior event. The imagery is in response to Integrated Ocean and Coastal Mapping requirements. The aerial photography missions were conducted by NOAA’s National Geodetic Survey, Remote Sensing Division. Images were acquired from various altitudes ranging from 3,500 to 7,500 feet, using a Trimble Digital Sensor System (DSS) at a 37.5 degree look angle.
Name: Storm/PreEvent2016
Description: This image service provides Pre-Event imagery flown in 2016 (2/2/16). The imagery is not specific to any prior event. The imagery is in response to Integrated Ocean and Coastal Mapping requirements. The aerial photography missions were conducted by NOAA’s National Geodetic Survey, Remote Sensing Division. Images were acquired from various altitudes ranging from 3,500 to 7,500 feet, using a Trimble Digital Sensor System (DSS) at a 37.5 degree look angle.
Single Fused Map Cache: false
Extent:
XMin: -8378993.2820999995
YMin: 4580728.617449727
XMax: -8353797.804331228
YMax: 4644943.769100003
Spatial Reference: 102100
(3857)
LatestVCSWkid(0)
Initial Extent:
XMin: -8378993.2820999995
YMin: 4580728.617449727
XMax: -8353797.804331228
YMax: 4644943.769100003
Spatial Reference: 102100
(3857)
LatestVCSWkid(0)
Full Extent:
XMin: -8378993.2820999995
YMin: 4580728.617449727
XMax: -8353797.804331228
YMax: 4644943.769100003
Spatial Reference: 102100
(3857)
LatestVCSWkid(0)
Pixel Size X: 0.2464250006726199
Pixel Size Y: 0.24642500067262002
Band Count: 3
Pixel Type: U8
RasterFunction Infos: {"rasterFunctionInfos": [{
"name": "None",
"description": "",
"help": ""
}]}
Mensuration Capabilities: None
Inspection Capabilities:
Has Histograms: true
Has Colormap: false
Has Multi Dimensions : false
Rendering Rule:
Min Scale: 0
Max Scale: 0
Copyright Text: MD iMAP, NOAA
Service Data Type: esriImageServiceDataTypeRGB
Min Values: 0, 0, 0
Max Values: 255, 255, 255
Mean Values: 62.30426461206248, 61.502232909652655, 51.36021004073182
Standard Deviation Values: 46.135872500345386, 40.75200435623111, 39.29830164419367
Object ID Field: OBJECTID
Fields:
-
OBJECTID
(
type: esriFieldTypeOID, alias: OBJECTID
)
-
Shape
(
type: esriFieldTypeGeometry, alias: Shape
)
-
Name
(
type: esriFieldTypeString, alias: Name, length: 200
)
-
MinPS
(
type: esriFieldTypeDouble, alias: MinPS
)
-
MaxPS
(
type: esriFieldTypeDouble, alias: MaxPS
)
-
LowPS
(
type: esriFieldTypeDouble, alias: LowPS
)
-
HighPS
(
type: esriFieldTypeDouble, alias: HighPS
)
-
Category
(
type: esriFieldTypeInteger, alias: Category
, Coded Values:
[0: Unknown]
, [1: Primary]
, [2: Overview]
, ...6 more...
)
-
Tag
(
type: esriFieldTypeString, alias: Tag, length: 100
)
-
GroupName
(
type: esriFieldTypeString, alias: GroupName, length: 100
)
-
ProductName
(
type: esriFieldTypeString, alias: ProductName, length: 100
)
-
CenterX
(
type: esriFieldTypeDouble, alias: CenterX
)
-
CenterY
(
type: esriFieldTypeDouble, alias: CenterY
)
-
ZOrder
(
type: esriFieldTypeInteger, alias: ZOrder
)
-
Shape_Length
(
type: esriFieldTypeDouble, alias: Shape_Length
)
-
Shape_Area
(
type: esriFieldTypeDouble, alias: Shape_Area
)
Default Mosaic Method: Northwest
Allowed Mosaic Methods: NorthWest,Center,LockRaster,ByAttribute,Nadir,Viewpoint,Seamline,None
SortField:
SortValue: null
Mosaic Operator: Max
Default Compression Quality: 75
Default Resampling Method: Bilinear
Max Record Count: 1000
Max Image Height: 4100
Max Image Width: 15000
Max Download Image Count: 20
Max Mosaic Image Count: 50
Allow Raster Function: true
Allow Copy: true
Allow Analysis: true
Allow Compute TiePoints: false
Supports Statistics: true
Supports Advanced Queries: true
Use StandardizedQueries: true
Raster Type Infos:
Name: Raster Dataset
Description: Supports all ArcGIS Raster Datasets
Help:
Has Raster Attribute Table: false
Edit Fields Info: null
Ownership Based AccessControl For Rasters: null
Child Resources:
Info
Histograms
Statistics
Key Properties
Legend
Raster Function Infos
Supported Operations:
Export Image
Query
Identify
Compute Histograms
Compute Statistics Histograms
Get Samples
Compute Class Statistics
Query GPS Info
Find Images
Image to Map
Map to Image
Measure from Image
Image to Map Multiray
Query Boundary
Compute Pixel Location
Compute Angles
Validate
Project