View In:
ArcGIS JavaScript
ArcGIS Online Map Viewer
ArcGIS Earth
Service Description: This image service provides Pre-Event imagery flown in 2018 (3/26/18 and 3/27/18). The imagery is not specific to any prior event. The imagery is in response to Integrated Ocean and Coastal Mapping requirements. The aerial photography missions were conducted by NOAA’s National Geodetic Survey, Remote Sensing Division. Images were acquired from various altitudes ranging from 3,500 to 7,500 feet, using a Trimble Digital Sensor System (DSS) at a 37.5 degree look angle.
Name: Storm/PreEvent2018
Description: This image service provides Pre-Event imagery flown in 2018 (3/26/18 and 3/27/18). The imagery is not specific to any prior event. The imagery is in response to Integrated Ocean and Coastal Mapping requirements. The aerial photography missions were conducted by NOAA’s National Geodetic Survey, Remote Sensing Division. Images were acquired from various altitudes ranging from 3,500 to 7,500 feet, using a Trimble Digital Sensor System (DSS) at a 37.5 degree look angle.
Single Fused Map Cache: false
Extent:
XMin: -8382368.788699999
YMin: 4575880.405968234
XMax: -8351733.583787383
YMax: 4643206.434
Spatial Reference: 102100
(3857)
LatestVCSWkid(0)
Initial Extent:
XMin: -8382368.788699999
YMin: 4575880.405968234
XMax: -8351733.583787383
YMax: 4643206.434
Spatial Reference: 102100
(3857)
LatestVCSWkid(0)
Full Extent:
XMin: -8382368.788699999
YMin: 4575880.405968234
XMax: -8351733.583787383
YMax: 4643206.434
Spatial Reference: 102100
(3857)
LatestVCSWkid(0)
Pixel Size X: 0.3003480907912516
Pixel Size Y: 0.3003480907912492
Band Count: 4
Pixel Type: U8
RasterFunction Infos: {"rasterFunctionInfos": [{
"name": "None",
"description": "",
"help": ""
}]}
Mensuration Capabilities: None
Inspection Capabilities:
Has Histograms: true
Has Colormap: false
Has Multi Dimensions : false
Rendering Rule:
Min Scale: 0
Max Scale: 0
Copyright Text: MD iMAP, NOAA
Service Data Type: esriImageServiceDataTypeGeneric
Min Values: 34, 41, 37, 239
Max Values: 221, 210, 219, 255
Mean Values: 79.53351959393271, 81.16549888097363, 87.40011409680599, 254.9886049471225
Standard Deviation Values: 31.68669027612238, 26.26625098505878, 24.965207549782324, 0.15816352160694924
Object ID Field: OBJECTID
Fields:
-
OBJECTID
(
type: esriFieldTypeOID, alias: OBJECTID
)
-
Shape
(
type: esriFieldTypeGeometry, alias: Shape
)
-
Name
(
type: esriFieldTypeString, alias: Name, length: 200
)
-
MinPS
(
type: esriFieldTypeDouble, alias: MinPS
)
-
MaxPS
(
type: esriFieldTypeDouble, alias: MaxPS
)
-
LowPS
(
type: esriFieldTypeDouble, alias: LowPS
)
-
HighPS
(
type: esriFieldTypeDouble, alias: HighPS
)
-
Category
(
type: esriFieldTypeInteger, alias: Category
, Coded Values:
[0: Unknown]
, [1: Primary]
, [2: Overview]
, ...6 more...
)
-
Tag
(
type: esriFieldTypeString, alias: Tag, length: 100
)
-
GroupName
(
type: esriFieldTypeString, alias: GroupName, length: 100
)
-
ProductName
(
type: esriFieldTypeString, alias: ProductName, length: 100
)
-
CenterX
(
type: esriFieldTypeDouble, alias: CenterX
)
-
CenterY
(
type: esriFieldTypeDouble, alias: CenterY
)
-
ZOrder
(
type: esriFieldTypeInteger, alias: ZOrder
)
-
Shape_Length
(
type: esriFieldTypeDouble, alias: Shape_Length
)
-
Shape_Area
(
type: esriFieldTypeDouble, alias: Shape_Area
)
Default Mosaic Method: Northwest
Allowed Mosaic Methods: NorthWest,Center,LockRaster,ByAttribute,Nadir,Viewpoint,Seamline,None
SortField:
SortValue: null
Mosaic Operator: Max
Default Compression Quality: 75
Default Resampling Method: Bilinear
Max Record Count: 1000
Max Image Height: 4100
Max Image Width: 15000
Max Download Image Count: 20
Max Mosaic Image Count: 50
Allow Raster Function: true
Allow Copy: true
Allow Analysis: true
Allow Compute TiePoints: false
Supports Statistics: true
Supports Advanced Queries: true
Use StandardizedQueries: true
Raster Type Infos:
Name: Raster Dataset
Description: Supports all ArcGIS Raster Datasets
Help:
Has Raster Attribute Table: false
Edit Fields Info: null
Ownership Based AccessControl For Rasters: null
Child Resources:
Info
Histograms
Statistics
Key Properties
Legend
Raster Function Infos
Supported Operations:
Export Image
Query
Identify
Compute Histograms
Compute Statistics Histograms
Get Samples
Compute Class Statistics
Query GPS Info
Find Images
Image to Map
Map to Image
Measure from Image
Image to Map Multiray
Query Boundary
Compute Pixel Location
Compute Angles
Validate
Project