View In:
ArcGIS JavaScript
ArcGIS Online Map Viewer
ArcGIS Earth
Service Description: The lidar project called for the Planning, Acquisition, processing and derivative products of lidar data to be collected at a nominal pulse spacing (NPS) of 0.35 meters. Project specifications are based on the U.S. Geological Survey National Geospatial Program Base Lidar Specification, Version 2.1. The data was developed based on a horizontal projection/datum of NAD83 (HARN), State Plane, Feet and vertical datum of NAVD88 (GEOID12B), Feet. Lidar data was delivered as processed Classified LAS 1.4 files, formatted to 619 individual 6000 ft x 4000 ft tiles, as tiled intensity rasters, and as tiled bare-earth DEMs; all tiled to the same 6000 ft x 4000 ft schema. Ground Conditions: Lidar was collected in late 2020, while no snow was on the ground and rivers were at or below normal levels. In order to post process the lidar data to meet task order specifications and meet ASPRS vertical accuracy guidelines, Sanborn Map Company, Inc., utilized a total of 10 ground control points that were used to calibrate the lidar to known ground locations established throughout the project area. An additional 50 independent accuracy check points, 30 in Bare Earth and Urban landcovers (30 NVA points), 20 in Tall Grass and Brushland/Low Trees categories (20 VVA points), were used to assess the vertical accuracy of the data. These check points were not used to calibrate or post process the data.
Name: AnneArundel/MD_annearundel_dem_ft
Description: The lidar project called for the Planning, Acquisition, processing and derivative products of lidar data to be collected at a nominal pulse spacing (NPS) of 0.35 meters. Project specifications are based on the U.S. Geological Survey National Geospatial Program Base Lidar Specification, Version 2.1. The data was developed based on a horizontal projection/datum of NAD83 (HARN), State Plane, Feet and vertical datum of NAVD88 (GEOID12B), Feet. Lidar data was delivered as processed Classified LAS 1.4 files, formatted to 619 individual 6000 ft x 4000 ft tiles, as tiled intensity rasters, and as tiled bare-earth DEMs; all tiled to the same 6000 ft x 4000 ft schema. Ground Conditions: Lidar was collected in late 2020, while no snow was on the ground and rivers were at or below normal levels. In order to post process the lidar data to meet task order specifications and meet ASPRS vertical accuracy guidelines, Sanborn Map Company, Inc., utilized a total of 10 ground control points that were used to calibrate the lidar to known ground locations established throughout the project area. An additional 50 independent accuracy check points, 30 in Bare Earth and Urban landcovers (30 NVA points), 20 in Tall Grass and Brushland/Low Trees categories (20 VVA points), were used to assess the vertical accuracy of the data. These check points were not used to calibrate or post process the data.
Single Fused Map Cache: false
Extent:
XMin: 1354000.000020966
YMin: 378999.9998578876
XMax: 1486000.000020966
YMax: 574999.9998578876
Spatial Reference: 2893
(2893)
VCSWkid(105703)
LatestVCSWkid(6360)
Initial Extent:
XMin: 1354000.000020966
YMin: 378999.9998578876
XMax: 1486000.000020966
YMax: 574999.9998578876
Spatial Reference: 2893
(2893)
VCSWkid(105703)
LatestVCSWkid(6360)
Full Extent:
XMin: 1354000.000020966
YMin: 378999.9998578876
XMax: 1486000.000020966
YMax: 574999.9998578876
Spatial Reference: 2893
(2893)
VCSWkid(105703)
LatestVCSWkid(6360)
Pixel Size X: 1.0
Pixel Size Y: 1.0
Band Count: 1
Pixel Type: F64
RasterFunction Infos: {"rasterFunctionInfos": [{
"name": "None",
"description": "",
"help": ""
}]}
Mensuration Capabilities:
Inspection Capabilities:
Has Histograms: true
Has Colormap: false
Has Multi Dimensions : false
Rendering Rule:
Min Scale: 0
Max Scale: 0
Copyright Text:
Service Data Type: esriImageServiceDataTypeGeneric
Min Values: -18.922001963596344
Max Values: 318.0580291000366
Mean Values: 79.92090989937694
Standard Deviation Values: 59.391220520342934
Object ID Field: OBJECTID
Fields:
-
OBJECTID
(
type: esriFieldTypeOID, alias: OBJECTID
)
-
Shape
(
type: esriFieldTypeGeometry, alias: Shape
)
-
Name
(
type: esriFieldTypeString, alias: Name, length: 200
)
-
MinPS
(
type: esriFieldTypeDouble, alias: MinPS
)
-
MaxPS
(
type: esriFieldTypeDouble, alias: MaxPS
)
-
LowPS
(
type: esriFieldTypeDouble, alias: LowPS
)
-
HighPS
(
type: esriFieldTypeDouble, alias: HighPS
)
-
Category
(
type: esriFieldTypeInteger, alias: Category
, Coded Values:
[0: Unknown]
, [1: Primary]
, [2: Overview]
, ...6 more...
)
-
Tag
(
type: esriFieldTypeString, alias: Tag, length: 100
)
-
GroupName
(
type: esriFieldTypeString, alias: GroupName, length: 100
)
-
ProductName
(
type: esriFieldTypeString, alias: ProductName, length: 100
)
-
CenterX
(
type: esriFieldTypeDouble, alias: CenterX
)
-
CenterY
(
type: esriFieldTypeDouble, alias: CenterY
)
-
ZOrder
(
type: esriFieldTypeInteger, alias: ZOrder
)
-
Shape_Length
(
type: esriFieldTypeDouble, alias: Shape_Length
)
-
Shape_Area
(
type: esriFieldTypeDouble, alias: Shape_Area
)
Default Mosaic Method: Northwest
Allowed Mosaic Methods: NorthWest,Center,LockRaster,ByAttribute,Nadir,Viewpoint,Seamline,None
SortField:
SortValue: null
Mosaic Operator: First
Default Compression Quality: 75
Default Resampling Method: Bilinear
Max Record Count: 1000
Max Image Height: 4100
Max Image Width: 15000
Max Download Image Count: 20
Max Mosaic Image Count: 20
Allow Raster Function: true
Allow Copy: true
Allow Analysis: true
Allow Compute TiePoints: false
Supports Statistics: true
Supports Advanced Queries: true
Use StandardizedQueries: true
Raster Type Infos:
Name: Raster Dataset
Description: Supports all ArcGIS Raster Datasets
Help:
Has Raster Attribute Table: false
Edit Fields Info: null
Ownership Based AccessControl For Rasters: null
Child Resources:
Info
Histograms
Statistics
Key Properties
Legend
Raster Function Infos
Supported Operations:
Export Image
Query
Identify
Compute Histograms
Compute Statistics Histograms
Get Samples
Compute Class Statistics
Query GPS Info
Find Images
Image to Map
Map to Image
Measure from Image
Image to Map Multiray
Query Boundary
Compute Pixel Location
Compute Angles
Validate
Project