View In:
ArcGIS JavaScript
ArcGIS Online Map Viewer
ArcGIS Earth
Service Description: Geographic Extent: Charles County Maryland, covering approximately 477 square miles. Dataset Description: The lidar project called for the Planning, Acquisition, processing and derivative products of lidar data to be collected at a nominal pulse spacing (NPS) of 0.7 meters. Project specifications are based on the U.S. Geological Survey National Geospatial Program Base Lidar Specification.
The data was developed based on a horizontal projection/datum of NAD83 (2011), Maryland State Plane, Feet and vertical datum of NAVD88 (GEOID18), Feet. Lidar data was delivered as processed Classified LAS 1.4 files, formatted to 644 individual 4000 ft x 6000 ft tiles clipped to the DPA, as tiled Intensity Images and as tiled bare-earth DEMs; all tiled to the same 4000 ft x 6000 ft schema.
Ground Conditions: Lidar was collected in March 2023, while no snow was on the ground and rivers were at or below normal levels. In order to post process the lidar data to meet task order specifications and meet ASPRS vertical accuracy guidelines, Sanborn Map Company, Inc., established a total of 11 ground control points that were used to calibrate the lidar to known ground locations established throughout the project area.
An additional 53 independent accuracy check points, 31 in Bare Earth and Urban landcovers (31 NVA points), 22 in Tall Grass and Brushland/Low Trees categories (22 VVA points), were used to assess the vertical accuracy of the data. These check points were not used to calibrate or post process the data.
Name: Charles/MD_charles_dem_m
Description: Geographic Extent: Charles County Maryland, covering approximately 477 square miles. Dataset Description: The lidar project called for the Planning, Acquisition, processing and derivative products of lidar data to be collected at a nominal pulse spacing (NPS) of 0.7 meters. Project specifications are based on the U.S. Geological Survey National Geospatial Program Base Lidar Specification.
The data was developed based on a horizontal projection/datum of NAD83 (2011), Maryland State Plane, Feet and vertical datum of NAVD88 (GEOID18), Feet. Lidar data was delivered as processed Classified LAS 1.4 files, formatted to 644 individual 4000 ft x 6000 ft tiles clipped to the DPA, as tiled Intensity Images and as tiled bare-earth DEMs; all tiled to the same 4000 ft x 6000 ft schema.
Ground Conditions: Lidar was collected in March 2023, while no snow was on the ground and rivers were at or below normal levels. In order to post process the lidar data to meet task order specifications and meet ASPRS vertical accuracy guidelines, Sanborn Map Company, Inc., established a total of 11 ground control points that were used to calibrate the lidar to known ground locations established throughout the project area.
An additional 53 independent accuracy check points, 31 in Bare Earth and Urban landcovers (31 NVA points), 22 in Tall Grass and Brushland/Low Trees categories (22 VVA points), were used to assess the vertical accuracy of the data. These check points were not used to calibrate or post process the data.
Single Fused Map Cache: false
Extent:
XMin: 1227999.9999999986
YMin: 210999.9999999997
XMax: 1407999.9999999986
YMax: 374999.9999999997
Spatial Reference: 0
(0)
LatestVCSWkid(0)
Initial Extent:
XMin: 1227999.9999999986
YMin: 210999.9999999997
XMax: 1407999.9999999986
YMax: 374999.9999999997
Spatial Reference: 0
(0)
LatestVCSWkid(0)
Full Extent:
XMin: 1227999.9999999986
YMin: 210999.9999999997
XMax: 1407999.9999999986
YMax: 374999.9999999997
Spatial Reference: 0
(0)
LatestVCSWkid(0)
Pixel Size X: 2.0
Pixel Size Y: 2.0
Band Count: 1
Pixel Type: F32
RasterFunction Infos: {"rasterFunctionInfos": [
{
"name": "None",
"description": "Make a Raster or Raster Dataset into a Function Raster Dataset.",
"help": ""
},
{
"name": "Aspect",
"description": "Shows which direction a pixel is facing, where 0 is due north and angles increase clockwise to 360.",
"help": ""
},
{
"name": "DEM_ft",
"description": "Reprojects raster to WKID 6488.",
"help": ""
},
{
"name": "Hillshade",
"description": "Creates a 3D representation of the surface, with the sun's relative position taken into account for shading the image.",
"help": ""
},
{
"name": "Shaded_Relief_RGB",
"description": "Creates a multiband, color coded, 3D representation of the surface, with the sun's relative position taken into account for shading the image.",
"help": ""
},
{
"name": "Slope (ft)",
"description": "Calculates the rate of change from one pixel value to its neighbors.",
"help": ""
}
]}
Mensuration Capabilities: None
Inspection Capabilities:
Has Histograms: true
Has Colormap: false
Has Multi Dimensions : false
Rendering Rule:
Min Scale: 0
Max Scale: 0
Copyright Text:
Service Data Type: esriImageServiceDataTypeGeneric
Min Values: -0.7883437871932983
Max Values: 87.25100708007812
Mean Values: 32.86445768195921
Standard Deviation Values: 20.18202596552532
Object ID Field: OBJECTID
Fields:
-
OBJECTID
(
type: esriFieldTypeOID, alias: OBJECTID
)
-
Shape
(
type: esriFieldTypeGeometry, alias: Shape
)
-
Name
(
type: esriFieldTypeString, alias: Name, length: 200
)
-
MinPS
(
type: esriFieldTypeDouble, alias: MinPS
)
-
MaxPS
(
type: esriFieldTypeDouble, alias: MaxPS
)
-
LowPS
(
type: esriFieldTypeDouble, alias: LowPS
)
-
HighPS
(
type: esriFieldTypeDouble, alias: HighPS
)
-
Category
(
type: esriFieldTypeInteger, alias: Category
, Coded Values:
[0: Unknown]
, [1: Primary]
, [2: Overview]
, ...6 more...
)
-
Tag
(
type: esriFieldTypeString, alias: Tag, length: 100
)
-
GroupName
(
type: esriFieldTypeString, alias: GroupName, length: 100
)
-
ProductName
(
type: esriFieldTypeString, alias: ProductName, length: 100
)
-
CenterX
(
type: esriFieldTypeDouble, alias: CenterX
)
-
CenterY
(
type: esriFieldTypeDouble, alias: CenterY
)
-
ZOrder
(
type: esriFieldTypeInteger, alias: ZOrder
)
-
Shape_Length
(
type: esriFieldTypeDouble, alias: Shape_Length
)
-
Shape_Area
(
type: esriFieldTypeDouble, alias: Shape_Area
)
Default Mosaic Method: Northwest
Allowed Mosaic Methods: NorthWest,Center,LockRaster,ByAttribute,Nadir,Viewpoint,Seamline,None
SortField:
SortValue: null
Mosaic Operator: First
Default Compression Quality: 75
Default Resampling Method: Bilinear
Max Record Count: 1000
Max Image Height: 4100
Max Image Width: 15000
Max Download Image Count: 20
Max Mosaic Image Count: 20
Allow Raster Function: true
Allow Copy: true
Allow Analysis: true
Allow Compute TiePoints: false
Supports Statistics: true
Supports Advanced Queries: true
Use StandardizedQueries: true
Raster Type Infos:
Name: Raster Dataset
Description: Supports all ArcGIS Raster Datasets
Help:
Has Raster Attribute Table: false
Edit Fields Info: null
Ownership Based AccessControl For Rasters: null
Child Resources:
Info
Histograms
Statistics
Key Properties
Legend
Raster Function Infos
Supported Operations:
Export Image
Query
Identify
Compute Histograms
Compute Statistics Histograms
Get Samples
Compute Class Statistics
Query GPS Info
Find Images
Image to Map
Map to Image
Measure from Image
Image to Map Multiray
Query Boundary
Compute Pixel Location
Compute Angles
Validate
Project