View In:
ArcGIS JavaScript
ArcGIS Online Map Viewer
ArcGIS Earth
Service Description: Geographic Extent: SANDY_Restoration_VA_MD_DC_QL2 Area of Interest covers approximately 2,002 square miles. Lot #5 contains the full project area Dataset Description: The SANDY_Restoration_VA_MD_DC_QL2 project called for the Planning, Acquisition, processing and derivative products of LIDAR data to be collected at a nominal pulse spacing (NPS) of 0.7 meter. Project specifications are based on the U.S. Geological Survey National Geospatial Program Base LIDAR Specification, Version 1. The data was developed based on a horizontal projection/datum of UTM Zone 18 North, NAD83, meters and vertical datum of NAVD1988 (GEOID12A), meters. LiDAR data was delivered in RAW flight line swath format, processed to create Classified LAS 1.2 Files formatted to 2283 individual 1500m x 1500m tiles, and corresponding Intensity Images and Bare Earth DEMs tiled to the same 1500m x 1500m schema, and Breaklines in ESRI Shapefile format. The data was then converted to a horizontal projection/datum of NAD83 Maryland State Plane Coordinate System, Feet. LiDAR was delivered in Classified LAS 1.2 Files formatted to 1927 individual 4000' x 6000' tiles, and corresponding Intensity Images and Bare Earth DEMs tiled to the same 4000' x 6000' schema, and Breaklines in ESRI Shapefile format. Ground Conditions: LiDAR was collected in Winter 2014, while no snow was on the ground and rivers were at or below normal levels. In order to post process the LiDAR data to meet task order specifications, Quantum Spatial established a total of 59 QA control points and 95 Land Cover control points that were used to calibrate the LIDAR to known ground locations established throughout the SANDY_Restoration_VA_MD_DC_QL2 project area.
Name: StMarys/MD_stmarys_dem_ft
Description: Geographic Extent: SANDY_Restoration_VA_MD_DC_QL2 Area of Interest covers approximately 2,002 square miles. Lot #5 contains the full project area Dataset Description: The SANDY_Restoration_VA_MD_DC_QL2 project called for the Planning, Acquisition, processing and derivative products of LIDAR data to be collected at a nominal pulse spacing (NPS) of 0.7 meter. Project specifications are based on the U.S. Geological Survey National Geospatial Program Base LIDAR Specification, Version 1. The data was developed based on a horizontal projection/datum of UTM Zone 18 North, NAD83, meters and vertical datum of NAVD1988 (GEOID12A), meters. LiDAR data was delivered in RAW flight line swath format, processed to create Classified LAS 1.2 Files formatted to 2283 individual 1500m x 1500m tiles, and corresponding Intensity Images and Bare Earth DEMs tiled to the same 1500m x 1500m schema, and Breaklines in ESRI Shapefile format. The data was then converted to a horizontal projection/datum of NAD83 Maryland State Plane Coordinate System, Feet. LiDAR was delivered in Classified LAS 1.2 Files formatted to 1927 individual 4000' x 6000' tiles, and corresponding Intensity Images and Bare Earth DEMs tiled to the same 4000' x 6000' schema, and Breaklines in ESRI Shapefile format. Ground Conditions: LiDAR was collected in Winter 2014, while no snow was on the ground and rivers were at or below normal levels. In order to post process the LiDAR data to meet task order specifications, Quantum Spatial established a total of 59 QA control points and 95 Land Cover control points that were used to calibrate the LIDAR to known ground locations established throughout the SANDY_Restoration_VA_MD_DC_QL2 project area.
Single Fused Map Cache: false
Extent:
XMin: 410871.2216999978
YMin: 41341.44019690023
XMax: 459695.5168485881
YMax: 94792.98959999904
Spatial Reference: 26985
(26985)
LatestVCSWkid(0)
Initial Extent:
XMin: 410871.2216999978
YMin: 41341.44019690023
XMax: 459695.5168485881
YMax: 94792.98959999904
Spatial Reference: 26985
(26985)
LatestVCSWkid(0)
Full Extent:
XMin: 410871.2216999978
YMin: 41341.44019690023
XMax: 459695.5168485881
YMax: 94792.98959999904
Spatial Reference: 26985
(26985)
LatestVCSWkid(0)
Pixel Size X: 0.9525019050038098
Pixel Size Y: 0.9525019050038102
Band Count: 1
Pixel Type: F32
RasterFunction Infos: {"rasterFunctionInfos": [{
"name": "None",
"description": "",
"help": ""
}]}
Mensuration Capabilities: None
Inspection Capabilities:
Has Histograms: true
Has Colormap: false
Has Multi Dimensions : false
Rendering Rule:
Min Scale: 0
Max Scale: 0
Copyright Text:
Service Data Type: esriImageServiceDataTypeGeneric
Min Values: -5.61504602432251
Max Values: 219.68563842773438
Mean Values: 66.20766133965655
Standard Deviation Values: 53.57407481705146
Object ID Field: OBJECTID
Fields:
-
OBJECTID
(
type: esriFieldTypeOID, alias: OBJECTID
)
-
Shape
(
type: esriFieldTypeGeometry, alias: Shape
)
-
Name
(
type: esriFieldTypeString, alias: Name, length: 200
)
-
MinPS
(
type: esriFieldTypeDouble, alias: MinPS
)
-
MaxPS
(
type: esriFieldTypeDouble, alias: MaxPS
)
-
LowPS
(
type: esriFieldTypeDouble, alias: LowPS
)
-
HighPS
(
type: esriFieldTypeDouble, alias: HighPS
)
-
Category
(
type: esriFieldTypeInteger, alias: Category
, Coded Values:
[0: Unknown]
, [1: Primary]
, [2: Overview]
, ...5 more...
)
-
Tag
(
type: esriFieldTypeString, alias: Tag, length: 100
)
-
GroupName
(
type: esriFieldTypeString, alias: GroupName, length: 100
)
-
ProductName
(
type: esriFieldTypeString, alias: ProductName, length: 100
)
-
CenterX
(
type: esriFieldTypeDouble, alias: CenterX
)
-
CenterY
(
type: esriFieldTypeDouble, alias: CenterY
)
-
ZOrder
(
type: esriFieldTypeInteger, alias: ZOrder
)
-
Shape_Length
(
type: esriFieldTypeDouble, alias: Shape_Length
)
-
Shape_Area
(
type: esriFieldTypeDouble, alias: Shape_Area
)
Default Mosaic Method: Northwest
Allowed Mosaic Methods: NorthWest,Center,LockRaster,ByAttribute,Nadir,Viewpoint,Seamline,None
SortField:
SortValue: null
Mosaic Operator: First
Default Compression Quality: 75
Default Resampling Method: Bilinear
Max Record Count: 1000
Max Image Height: 4100
Max Image Width: 15000
Max Download Image Count: 20
Max Mosaic Image Count: 50
Allow Raster Function: true
Allow Copy: true
Allow Analysis: true
Allow Compute TiePoints: false
Supports Statistics: true
Supports Advanced Queries: true
Use StandardizedQueries: true
Raster Type Infos:
Name: Raster Dataset
Description: Supports all ArcGIS Raster Datasets
Help:
Has Raster Attribute Table: false
Edit Fields Info: null
Ownership Based AccessControl For Rasters: null
Child Resources:
Info
Histograms
Statistics
Key Properties
Legend
Raster Function Infos
Supported Operations:
Export Image
Query
Identify
Compute Histograms
Compute Statistics Histograms
Get Samples
Compute Class Statistics
Query GPS Info
Find Images
Image to Map
Map to Image
Measure from Image
Image to Map Multiray
Query Boundary
Compute Pixel Location
Compute Angles
Validate
Project