View In:
ArcGIS JavaScript
ArcGIS Online Map Viewer
ArcGIS Earth
Service Description: These lidar data are processed Quality Level 1 (QL1) Bare-Earth DEM files, formatted to formatted to 2211 individual 1800 m x 1200 m tiles at 0.5 meter resolution. Geographic Extent: Geographic Extent: Four counties of Maryland, including Kent, Talbot, Caroline, and Dorchester counties. Dataset Description: The Delaware 2023, Work Unit 300433 Lidar project called for the Planning, Acquisition, processing and derivative products of lidar data to be collected at a nominal pulse spacing (NPS) of 0.35 meters for QL1 data. Project specifications are based on the U.S. Geological Survey National Geospatial Program Base Lidar Specification 2023, revision A. The data was developed based on a horizontal projection/datum of NAD83 (2011), State Plane Maryland FIPS 1900, meters and vertical datum of NAVD88 (GEOID18), meters. Lidar data was delivered as processed Classified LAS 1.4 files, formatted to 4791 individual formatted to 2211 individual 1800 m x 1200 m tiles and as tiled bare earth DEMs; all tiled to the same 1800 m x 1200 m schema. Ground Conditions: Lidar was collected in the spring 2023, while no snow was on the ground and waterways were at low tide. In order to post process the lidar data to meet task order specifications and meet ASPRS vertical accuracy guidelines, a total of 197 checkpoints were used to calibrate the lidar to known ground locations established throughout the project area. A total of 110 Non-Vegetated Vertical Accuracy (NVA) points were used. A total of 87 Vegetated Vertical Accuracy (VVA) points were used. These checkpoints were not used to calibrate or post process the data.
DEM tiles in this collection have been hydro-flattened using breaklines with a downstream constraint rather than assigning a single flat elevation across the river. This process can cause slight variations in river elevations which are not easily detected when inspecting the DEM. Those variations however can become amplified in slope and aspect products and result in artifacts such as a tinning effect in the water. These artifacts are expected and not considered errors in the data.
Name: Talbot/MD_talbot_shadedRelief_RGB
Description: These lidar data are processed Quality Level 1 (QL1) Bare-Earth DEM files, formatted to formatted to 2211 individual 1800 m x 1200 m tiles at 0.5 meter resolution. Geographic Extent: Geographic Extent: Four counties of Maryland, including Kent, Talbot, Caroline, and Dorchester counties. Dataset Description: The Delaware 2023, Work Unit 300433 Lidar project called for the Planning, Acquisition, processing and derivative products of lidar data to be collected at a nominal pulse spacing (NPS) of 0.35 meters for QL1 data. Project specifications are based on the U.S. Geological Survey National Geospatial Program Base Lidar Specification 2023, revision A. The data was developed based on a horizontal projection/datum of NAD83 (2011), State Plane Maryland FIPS 1900, meters and vertical datum of NAVD88 (GEOID18), meters. Lidar data was delivered as processed Classified LAS 1.4 files, formatted to 4791 individual formatted to 2211 individual 1800 m x 1200 m tiles and as tiled bare earth DEMs; all tiled to the same 1800 m x 1200 m schema. Ground Conditions: Lidar was collected in the spring 2023, while no snow was on the ground and waterways were at low tide. In order to post process the lidar data to meet task order specifications and meet ASPRS vertical accuracy guidelines, a total of 197 checkpoints were used to calibrate the lidar to known ground locations established throughout the project area. A total of 110 Non-Vegetated Vertical Accuracy (NVA) points were used. A total of 87 Vegetated Vertical Accuracy (VVA) points were used. These checkpoints were not used to calibrate or post process the data.
DEM tiles in this collection have been hydro-flattened using breaklines with a downstream constraint rather than assigning a single flat elevation across the river. This process can cause slight variations in river elevations which are not easily detected when inspecting the DEM. Those variations however can become amplified in slope and aspect products and result in artifacts such as a tinning effect in the water. These artifacts are expected and not considered errors in the data.
Single Fused Map Cache: false
Extent:
XMin: 451800.0
YMin: 100800.0
XMax: 496800.0
YMax: 142800.0
Spatial Reference: 103068
(6487)
VCSWkid(5703)
LatestVCSWkid(5703)
Initial Extent:
XMin: 451800.0
YMin: 100800.0
XMax: 496800.0
YMax: 142800.0
Spatial Reference: 103068
(6487)
VCSWkid(5703)
LatestVCSWkid(5703)
Full Extent:
XMin: 451800.0
YMin: 100800.0
XMax: 496800.0
YMax: 142800.0
Spatial Reference: 103068
(6487)
VCSWkid(5703)
LatestVCSWkid(5703)
Pixel Size X: 0.5
Pixel Size Y: 0.5
Band Count: 3
Pixel Type: U8
RasterFunction Infos: {"rasterFunctionInfos": [{
"name": "None",
"description": "",
"help": ""
}]}
Mensuration Capabilities:
Inspection Capabilities:
Has Histograms: false
Has Colormap: false
Has Multi Dimensions : false
Rendering Rule:
Min Scale: 0
Max Scale: 0
Copyright Text:
Service Data Type: esriImageServiceDataTypeRGB
Min Values: N/A
Max Values: N/A
Mean Values: N/A
Standard Deviation Values: N/A
Object ID Field: OBJECTID
Fields:
-
OBJECTID
(
type: esriFieldTypeOID, alias: OBJECTID
)
-
Shape
(
type: esriFieldTypeGeometry, alias: Shape
)
-
Name
(
type: esriFieldTypeString, alias: Name, length: 200
)
-
MinPS
(
type: esriFieldTypeDouble, alias: MinPS
)
-
MaxPS
(
type: esriFieldTypeDouble, alias: MaxPS
)
-
LowPS
(
type: esriFieldTypeDouble, alias: LowPS
)
-
HighPS
(
type: esriFieldTypeDouble, alias: HighPS
)
-
Category
(
type: esriFieldTypeInteger, alias: Category
, Coded Values:
[0: Unknown]
, [1: Primary]
, [2: Overview]
, ...6 more...
)
-
Tag
(
type: esriFieldTypeString, alias: Tag, length: 100
)
-
GroupName
(
type: esriFieldTypeString, alias: GroupName, length: 100
)
-
ProductName
(
type: esriFieldTypeString, alias: ProductName, length: 100
)
-
CenterX
(
type: esriFieldTypeDouble, alias: CenterX
)
-
CenterY
(
type: esriFieldTypeDouble, alias: CenterY
)
-
ZOrder
(
type: esriFieldTypeInteger, alias: ZOrder
)
-
Shape_Length
(
type: esriFieldTypeDouble, alias: Shape_Length
)
-
Shape_Area
(
type: esriFieldTypeDouble, alias: Shape_Area
)
Default Mosaic Method: Northwest
Allowed Mosaic Methods: NorthWest,Center,LockRaster,ByAttribute,Nadir,Viewpoint,Seamline,None
SortField:
SortValue: null
Mosaic Operator: First
Default Compression Quality: 75
Default Resampling Method: Bilinear
Max Record Count: 1000
Max Image Height: 4100
Max Image Width: 15000
Max Download Image Count: 20
Max Mosaic Image Count: 20
Allow Raster Function: true
Allow Copy: true
Allow Analysis: true
Allow Compute TiePoints: false
Supports Statistics: true
Supports Advanced Queries: true
Use StandardizedQueries: true
Raster Type Infos:
Name: Raster Dataset
Description: Supports all ArcGIS Raster Datasets
Help:
Has Raster Attribute Table: false
Edit Fields Info: null
Ownership Based AccessControl For Rasters: null
Child Resources:
Info
Statistics
Key Properties
Legend
Raster Function Infos
Supported Operations:
Export Image
Query
Identify
Compute Histograms
Compute Statistics Histograms
Get Samples
Compute Class Statistics
Query GPS Info
Find Images
Image to Map
Map to Image
Measure from Image
Image to Map Multiray
Query Boundary
Compute Pixel Location
Compute Angles
Validate
Project