View In:
ArcGIS JavaScript
ArcGIS Online Map Viewer
ArcGIS Earth
Service Description: USGS Contract No. G17PC00015 CONTRACTOR: Fugro Geospatial, Inc. SUBCONTRACTOR: Terrasurv, Inc. Ground control and checkpoints collected by Terrasurv, Inc. All processing was completed by the prime contractor. DEM Raster File Type = GeoTIFF Bit Depth/Pixel Type = 32-bit float Raster Cell Size = 1 meter Interpolation or Resampling Technique = Triangulated Irregular Network (TIN) Network Required Vertical Accuracy = 19.6 cm NVA.
Name: Washington/MD_washington_dem_ft
Description: USGS Contract No. G17PC00015 CONTRACTOR: Fugro Geospatial, Inc. SUBCONTRACTOR: Terrasurv, Inc. Ground control and checkpoints collected by Terrasurv, Inc. All processing was completed by the prime contractor. DEM Raster File Type = GeoTIFF Bit Depth/Pixel Type = 32-bit float Raster Cell Size = 1 meter Interpolation or Resampling Technique = Triangulated Irregular Network (TIN) Network Required Vertical Accuracy = 19.6 cm NVA.
Single Fused Map Cache: false
Extent:
XMin: 282600.0
YMin: 182400.0
XMax: 360000.0
YMax: 229200.0
Spatial Reference: 103068
(6487)
VCSWkid(5703)
LatestVCSWkid(5703)
Initial Extent:
XMin: 282600.0
YMin: 182400.0
XMax: 360000.0
YMax: 229200.0
Spatial Reference: 103068
(6487)
VCSWkid(5703)
LatestVCSWkid(5703)
Full Extent:
XMin: 282600.0
YMin: 182400.0
XMax: 360000.0
YMax: 229200.0
Spatial Reference: 103068
(6487)
VCSWkid(5703)
LatestVCSWkid(5703)
Pixel Size X: 1.0
Pixel Size Y: 1.0
Band Count: 1
Pixel Type: F64
RasterFunction Infos: {"rasterFunctionInfos": [{
"name": "None",
"description": "",
"help": ""
}]}
Mensuration Capabilities:
Inspection Capabilities:
Has Histograms: true
Has Colormap: false
Has Multi Dimensions : false
Rendering Rule:
Min Scale: 0
Max Scale: 0
Copyright Text:
Service Data Type: esriImageServiceDataTypeGeneric
Min Values: 207.34909050308227
Max Values: 2144.754032873535
Mean Values: 643.3749877974193
Standard Deviation Values: 288.2405677792666
Object ID Field: OBJECTID
Fields:
-
OBJECTID
(
type: esriFieldTypeOID, alias: OBJECTID
)
-
Shape
(
type: esriFieldTypeGeometry, alias: Shape
)
-
Name
(
type: esriFieldTypeString, alias: Name, length: 200
)
-
MinPS
(
type: esriFieldTypeDouble, alias: MinPS
)
-
MaxPS
(
type: esriFieldTypeDouble, alias: MaxPS
)
-
LowPS
(
type: esriFieldTypeDouble, alias: LowPS
)
-
HighPS
(
type: esriFieldTypeDouble, alias: HighPS
)
-
Category
(
type: esriFieldTypeInteger, alias: Category
, Coded Values:
[0: Unknown]
, [1: Primary]
, [2: Overview]
, ...6 more...
)
-
Tag
(
type: esriFieldTypeString, alias: Tag, length: 100
)
-
GroupName
(
type: esriFieldTypeString, alias: GroupName, length: 100
)
-
ProductName
(
type: esriFieldTypeString, alias: ProductName, length: 100
)
-
CenterX
(
type: esriFieldTypeDouble, alias: CenterX
)
-
CenterY
(
type: esriFieldTypeDouble, alias: CenterY
)
-
ZOrder
(
type: esriFieldTypeInteger, alias: ZOrder
)
-
Shape_Length
(
type: esriFieldTypeDouble, alias: Shape_Length
)
-
Shape_Area
(
type: esriFieldTypeDouble, alias: Shape_Area
)
Default Mosaic Method: Northwest
Allowed Mosaic Methods: NorthWest,Center,LockRaster,ByAttribute,Nadir,Viewpoint,Seamline,None
SortField:
SortValue: null
Mosaic Operator: First
Default Compression Quality: 75
Default Resampling Method: Bilinear
Max Record Count: 1000
Max Image Height: 4100
Max Image Width: 15000
Max Download Image Count: 20
Max Mosaic Image Count: 20
Allow Raster Function: true
Allow Copy: true
Allow Analysis: true
Allow Compute TiePoints: false
Supports Statistics: true
Supports Advanced Queries: true
Use StandardizedQueries: true
Raster Type Infos:
Name: Raster Dataset
Description: Supports all ArcGIS Raster Datasets
Help:
Has Raster Attribute Table: false
Edit Fields Info: null
Ownership Based AccessControl For Rasters: null
Child Resources:
Info
Histograms
Statistics
Key Properties
Legend
Raster Function Infos
Supported Operations:
Export Image
Query
Identify
Compute Histograms
Compute Statistics Histograms
Get Samples
Compute Class Statistics
Query GPS Info
Find Images
Image to Map
Map to Image
Measure from Image
Image to Map Multiray
Query Boundary
Compute Pixel Location
Compute Angles
Validate
Project