View In:
ArcGIS JavaScript
ArcGIS Online Map Viewer
ArcGIS Earth
Service Description: MDOT SHA provides a series of georeferenced historical maps and aerials for research and public use. The image is publicly available from the Library of Congress online catalogue (https://www.loc.gov/item/94681799/). The Martenet’s Map of Maryland was completed 1865 by Simon J. Martenet C.E., engraving by Schmidt & Trowe, and was commissioned by U.S. Congress. The complete original title of the document is “Martenet's map of Maryland : including the District of Columbia, a sketch of Delaware, and a portion of northern and eastern Virginia showing some of the most interesting localities of the late war”. Maryland Environmental Service GIS on behalf of SHA attained the files from their sources, georeferenced each file using ESRI ArcGIS Pro to modern imagery using landmarks or coordinate tic marks if provided, and quality controlled for accuracy. This map is matched to modern geography as closely as possible based on the limitations of the original document and available imagery.
Name: Historical/MD_Martenet_1865
Description: MDOT SHA provides a series of georeferenced historical maps and aerials for research and public use. The image is publicly available from the Library of Congress online catalogue (https://www.loc.gov/item/94681799/). The Martenet’s Map of Maryland was completed 1865 by Simon J. Martenet C.E., engraving by Schmidt & Trowe, and was commissioned by U.S. Congress. The complete original title of the document is “Martenet's map of Maryland : including the District of Columbia, a sketch of Delaware, and a portion of northern and eastern Virginia showing some of the most interesting localities of the late war”. Maryland Environmental Service GIS on behalf of SHA attained the files from their sources, georeferenced each file using ESRI ArcGIS Pro to modern imagery using landmarks or coordinate tic marks if provided, and quality controlled for accuracy. This map is matched to modern geography as closely as possible based on the limitations of the original document and available imagery.
Single Fused Map Cache: false
Extent:
XMin: -8874596.9044
YMin: 4531466.906137152
XMax: -8332650.686068485
YMax: 4857455.991999999
Spatial Reference: 102100
(3857)
LatestVCSWkid(0)
Initial Extent:
XMin: -8874596.9044
YMin: 4531466.906137152
XMax: -8332650.686068485
YMax: 4857455.991999999
Spatial Reference: 102100
(3857)
LatestVCSWkid(0)
Full Extent:
XMin: -8874596.9044
YMin: 4531466.906137152
XMax: -8332650.686068485
YMax: 4857455.991999999
Spatial Reference: 102100
(3857)
LatestVCSWkid(0)
Pixel Size X: 18.49898342202061
Pixel Size Y: 18.4989834220206
Band Count: 3
Pixel Type: U8
RasterFunction Infos: {"rasterFunctionInfos": [{
"name": "None",
"description": "",
"help": ""
}]}
Mensuration Capabilities: Basic
Inspection Capabilities:
Has Histograms: true
Has Colormap: false
Has Multi Dimensions : false
Rendering Rule:
Min Scale: 0
Max Scale: 0
Copyright Text: MD iMAP, MDOT SHA, Library of Congress Geography and Map Division, Simon J. Martenet
Service Data Type: esriImageServiceDataTypeRGB
Min Values: 0, 0, 1
Max Values: 255, 255, 255
Mean Values: 192.04044812024148, 156.62099202325632, 119.19069409376337
Standard Deviation Values: 35.332330637828505, 29.500041415250664, 22.920955102272657
Object ID Field: OBJECTID
Fields:
-
OBJECTID
(
type: esriFieldTypeOID, alias: OBJECTID
)
-
Shape
(
type: esriFieldTypeGeometry, alias: Shape
)
-
Name
(
type: esriFieldTypeString, alias: Name, length: 200
)
-
MinPS
(
type: esriFieldTypeDouble, alias: MinPS
)
-
MaxPS
(
type: esriFieldTypeDouble, alias: MaxPS
)
-
LowPS
(
type: esriFieldTypeDouble, alias: LowPS
)
-
HighPS
(
type: esriFieldTypeDouble, alias: HighPS
)
-
Category
(
type: esriFieldTypeInteger, alias: Category
, Coded Values:
[0: Unknown]
, [1: Primary]
, [2: Overview]
, ...6 more...
)
-
Tag
(
type: esriFieldTypeString, alias: Tag, length: 100
)
-
GroupName
(
type: esriFieldTypeString, alias: GroupName, length: 100
)
-
ProductName
(
type: esriFieldTypeString, alias: ProductName, length: 100
)
-
CenterX
(
type: esriFieldTypeDouble, alias: CenterX
)
-
CenterY
(
type: esriFieldTypeDouble, alias: CenterY
)
-
ZOrder
(
type: esriFieldTypeInteger, alias: ZOrder
)
-
Shape_Length
(
type: esriFieldTypeDouble, alias: Shape_Length
)
-
Shape_Area
(
type: esriFieldTypeDouble, alias: Shape_Area
)
Default Mosaic Method: Northwest
Allowed Mosaic Methods: NorthWest,Center,LockRaster,ByAttribute,Nadir,Viewpoint,Seamline,None
SortField:
SortValue: null
Mosaic Operator: First
Default Compression Quality: 75
Default Resampling Method: Bilinear
Max Record Count: 1000
Max Image Height: 4100
Max Image Width: 15000
Max Download Image Count: 20
Max Mosaic Image Count: 20
Allow Raster Function: true
Allow Copy: true
Allow Analysis: true
Allow Compute TiePoints: false
Supports Statistics: true
Supports Advanced Queries: true
Use StandardizedQueries: true
Raster Type Infos:
Name: Raster Dataset
Description: Supports all ArcGIS Raster Datasets
Help:
Has Raster Attribute Table: false
Edit Fields Info: null
Ownership Based AccessControl For Rasters: null
Child Resources:
Info
Histograms
Statistics
Key Properties
Legend
Raster Function Infos
Supported Operations:
Export Image
Query
Identify
Measure
Compute Histograms
Compute Statistics Histograms
Get Samples
Compute Class Statistics
Query GPS Info
Find Images
Image to Map
Map to Image
Measure from Image
Image to Map Multiray
Query Boundary
Compute Pixel Location
Compute Angles
Validate
Project