View In:
ArcGIS JavaScript
ArcGIS Online Map Viewer
ArcGIS Earth
Service Description: This service provides six inch resolution aerial imagery for the State of Maryland. The imagery for this service is composed of imagery flown in 2023 (Southern Western Shore: Anne Arundel, Calvert, Charles, Howard, Montgomery, Prince George's St. Mary's), 2024 (Eastern Shore), and 2025 (Northern Western Shore: Allegany, Baltimore City, Baltimore County, Carroll, Frederick, Garrett, Harford, Washington).
Name: SixInch/SixInchImagery
Description: This service provides six inch resolution aerial imagery for the State of Maryland. The imagery for this service is composed of imagery flown in 2023 (Southern Western Shore: Anne Arundel, Calvert, Charles, Howard, Montgomery, Prince George's St. Mary's), 2024 (Eastern Shore), and 2025 (Northern Western Shore: Allegany, Baltimore City, Baltimore County, Carroll, Frederick, Garrett, Harford, Washington).
Single Fused Map Cache: false
Extent:
XMin: -8850724.705
YMin: 4562613.177640564
XMax: -8352454.804060198
YMax: 4827842.8957
Spatial Reference: 102100
(3857)
LatestVCSWkid(0)
Initial Extent:
XMin: -8850724.705
YMin: 4562613.177640564
XMax: -8352454.804060198
YMax: 4827842.8957
Spatial Reference: 102100
(3857)
LatestVCSWkid(0)
Full Extent:
XMin: -8850724.705
YMin: 4562613.177640564
XMax: -8352454.804060198
YMax: 4827842.8957
Spatial Reference: 102100
(3857)
LatestVCSWkid(0)
Pixel Size X: 0.15240030480060954
Pixel Size Y: 0.15240030480060976
Band Count: 5
Pixel Type: U8
RasterFunction Infos: {"rasterFunctionInfos": [
{
"name": "None",
"description": "Make a Raster or Raster Dataset into a Function Raster Dataset.",
"help": ""
},
{
"name": "None",
"description": "Make a Raster or Raster Dataset into a Function Raster Dataset.",
"help": ""
}
]}
Mensuration Capabilities: None
Inspection Capabilities:
Has Histograms: true
Has Colormap: false
Has Multi Dimensions : false
Rendering Rule:
Min Scale: 0
Max Scale: 0
Copyright Text: MD iMAP
Service Data Type: esriImageServiceDataTypeGeneric
Min Values: 3, 6, 9, 0, 209
Max Values: 251, 252, 250, 253, 255
Mean Values: 94.9890163604475, 93.12093265092835, 91.6046944037102, 142.41506129177213, 254.99383008903524
Standard Deviation Values: 37.00395082919225, 30.225253548862867, 24.91954974211413, 64.57824660244279, 0.18386590336110734
Object ID Field: OBJECTID
Fields:
-
OBJECTID
(
type: esriFieldTypeOID, alias: OBJECTID
)
-
Shape
(
type: esriFieldTypeGeometry, alias: Shape
)
-
Name
(
type: esriFieldTypeString, alias: Name, length: 200
)
-
MinPS
(
type: esriFieldTypeDouble, alias: MinPS
)
-
MaxPS
(
type: esriFieldTypeDouble, alias: MaxPS
)
-
LowPS
(
type: esriFieldTypeDouble, alias: LowPS
)
-
HighPS
(
type: esriFieldTypeDouble, alias: HighPS
)
-
Category
(
type: esriFieldTypeInteger, alias: Category
, Coded Values:
[0: Unknown]
, [1: Primary]
, [2: Overview]
, ...6 more...
)
-
Tag
(
type: esriFieldTypeString, alias: Tag, length: 100
)
-
GroupName
(
type: esriFieldTypeString, alias: GroupName, length: 100
)
-
ProductName
(
type: esriFieldTypeString, alias: ProductName, length: 100
)
-
CenterX
(
type: esriFieldTypeDouble, alias: CenterX
)
-
CenterY
(
type: esriFieldTypeDouble, alias: CenterY
)
-
ZOrder
(
type: esriFieldTypeInteger, alias: ZOrder
)
-
Shape_Length
(
type: esriFieldTypeDouble, alias: Shape_Length
)
-
Shape_Area
(
type: esriFieldTypeDouble, alias: Shape_Area
)
Default Mosaic Method: Northwest
Allowed Mosaic Methods: NorthWest,Center,LockRaster,ByAttribute,Nadir,Viewpoint,Seamline,None
SortField:
SortValue: null
Mosaic Operator: First
Default Compression Quality: 75
Default Resampling Method: Bilinear
Max Record Count: 1000
Max Image Height: 4100
Max Image Width: 15000
Max Download Image Count: 20
Max Mosaic Image Count: 50
Allow Raster Function: true
Allow Copy: true
Allow Analysis: true
Allow Compute TiePoints: false
Supports Statistics: true
Supports Advanced Queries: true
Use StandardizedQueries: true
Raster Type Infos:
Name: Raster Dataset
Description: Supports all ArcGIS Raster Datasets
Help:
Has Raster Attribute Table: false
Edit Fields Info: null
Ownership Based AccessControl For Rasters: null
Child Resources:
Info
Histograms
Statistics
Key Properties
Legend
Raster Function Infos
Supported Operations:
Export Image
Query
Identify
Compute Histograms
Compute Statistics Histograms
Get Samples
Compute Class Statistics
Query GPS Info
Find Images
Image to Map
Map to Image
Measure from Image
Image to Map Multiray
Query Boundary
Compute Pixel Location
Compute Angles
Validate
Project