View In:
ArcGIS JavaScript
ArcGIS Online Map Viewer
ArcGIS Earth
ArcGIS Pro
Service Description: <DIV STYLE="text-align:Left;"><DIV><DIV><P><SPAN>This service provides Six Inch resolution aerial imagery for the State of Maryland. The imagery for this service is composed of imagery flown in 2010 (Eastern Shore) and 2011 (Western Shore).</SPAN></P></DIV></DIV></DIV>
Map Name: SixInchImagery2010_2011
Legend
All Layers and Tables
Layers:
Description:
Copyright Text: MD iMAP, DoIT
Spatial Reference:
26985
(26985)
LatestVCSWkid(0)
Single Fused Map Cache: true
Tile Info:
- Height: 512.0
- Width: 512.0
- DPI: 96.0
-
Levels of Detail: 12
-
Level ID: 0
[ Start Tile, End Tile ]
- Resolution: 610.8116874192093
- Scale: 2308574.98883465
-
Level ID: 1
[ Start Tile, End Tile ]
- Resolution: 305.40584370960335
- Scale: 1154287.49441732
-
Level ID: 2
[ Start Tile, End Tile ]
- Resolution: 152.7029218548022
- Scale: 577143.747208662
-
Level ID: 4
[ Start Tile, End Tile ]
- Resolution: 38.17573046370042
- Scale: 144285.936802165
-
Level ID: 5
[ Start Tile, End Tile ]
- Resolution: 19.087865231850262
- Scale: 72142.9684010827
-
Level ID: 6
[ Start Tile, End Tile ]
- Resolution: 9.543932615925145
- Scale: 36071.4842005414
-
Level ID: 7
[ Start Tile, End Tile ]
- Resolution: 4.771966307962573
- Scale: 18035.7421002707
-
Level ID: 8
[ Start Tile, End Tile ]
- Resolution: 2.3859831539812832
- Scale: 9017.87105013534
-
Level ID: 9
[ Start Tile, End Tile ]
- Resolution: 1.1929915769906416
- Scale: 4508.93552506767
- Format: JPEG
- Compression Quality: 90.0
- Origin: X: -3.67471E7
Y: 4.52027E7
- Spatial Reference: 26985
(26985)
LatestVCSWkid(0)
Storage Info:
- Storage Format: esriMapCacheStorageModeCompactV2
- Packet Size: 128
Initial Extent:
XMin: -13348.52221754531
YMin: -146665.2729614796
XMax: 766556.6011292815
YMax: 401705.51689175796
Spatial Reference: 26985
(26985)
LatestVCSWkid(0)
Full Extent:
XMin: 177781.82367801253
YMin: 21816.316083298065
XMax: 575192.6062960222
YMax: 235121.6177013684
Spatial Reference: 26985
(26985)
LatestVCSWkid(0)
Units: esriMeters
Supported Image Format Types: PNG32,PNG24,PNG,JPG,DIB,TIFF,EMF,PS,PDF,GIF,SVG,SVGZ,BMP
Document Info:
Title: Map
Author:
Comments:
Subject:
Category:
Keywords: Six Inch,Imagery,MD iMAP,2010,2011
AntialiasingMode: Fast
TextAntialiasingMode: Force
Supports Dynamic Layers: false
MaxRecordCount: 2000
MaxImageHeight: 4096
MaxImageWidth: 4096
Supported Query Formats: JSON, geoJSON, PBF
Supports Query Data Elements: true
Min Scale: 2308574.98883465
Max Scale: 1127.23388125
Supports Datum Transformation: true
Child Resources:
Info
Supported Operations:
Export Map
Identify
QueryLegends
QueryDomains
Find
Return Updates