View In:
ArcGIS JavaScript
ArcGIS Online Map Viewer
ArcGIS Earth
Service Description: This cached Image Service of Maryland Property Data allows for the manipulation of the display properties of the Statewide Tax Maps dataset.
Name: PlanningCadastre/MD_PropertyData
Description: This cached Image Service of Maryland Property Data allows for the manipulation of the display properties of the Statewide Tax Maps dataset.
Single Fused Map Cache: false
Extent:
XMin: -8855172.817836793
YMin: 4560170.026909433
XMax: -8348262.600699164
YMax: 4830397.464766555
Spatial Reference: 102100
(3857)
LatestVCSWkid(0)
Initial Extent:
XMin: -8855172.817836793
YMin: 4560170.026909433
XMax: -8348262.600699164
YMax: 4830397.464766555
Spatial Reference: 102100
(3857)
LatestVCSWkid(0)
Full Extent:
XMin: -8855172.817836793
YMin: 4560170.026909433
XMax: -8348262.600699164
YMax: 4830397.464766555
Spatial Reference: 102100
(3857)
LatestVCSWkid(0)
Pixel Size X: 0.14929107082380833
Pixel Size Y: 0.14929107082380813
Band Count: 3
Pixel Type: U8
RasterFunction Infos: {"rasterFunctionInfos": [
{
"name": "RGB to Single Band",
"description": "Convert RGB to single band (R).",
"help": ""
},
{
"name": "None",
"description": "",
"help": ""
}
]}
Mensuration Capabilities: Basic
Inspection Capabilities:
Has Histograms: false
Has Colormap: false
Has Multi Dimensions : false
Rendering Rule:
Min Scale: 0
Max Scale: 0
Copyright Text: MD iMAP, MDP
Service Data Type: esriImageServiceDataTypeRGB
Min Values: N/A
Max Values: N/A
Mean Values: N/A
Standard Deviation Values: N/A
Object ID Field:
Fields:
None
Default Mosaic Method: Center
Allowed Mosaic Methods:
SortField:
SortValue: null
Mosaic Operator: First
Default Compression Quality: 75
Default Resampling Method: Bilinear
Max Record Count: null
Max Image Height: 4100
Max Image Width: 15000
Max Download Image Count: null
Max Mosaic Image Count: null
Allow Raster Function: true
Allow Copy: true
Allow Analysis: true
Allow Compute TiePoints: false
Supports Statistics: false
Supports Advanced Queries: false
Use StandardizedQueries: true
Raster Type Infos:
Name: Raster Dataset
Description: Supports all ArcGIS Raster Datasets
Help:
Has Raster Attribute Table: false
Edit Fields Info: null
Ownership Based AccessControl For Rasters: null
Child Resources:
Info
Statistics
Key Properties
Legend
Raster Function Infos
Supported Operations:
Export Image
Identify
Measure
Compute Histograms
Compute Statistics Histograms
Get Samples
Compute Class Statistics
Query Boundary
Compute Pixel Location
Compute Angles
Validate
Project