View In:
ArcGIS JavaScript
ArcGIS Online Map Viewer
ArcGIS Earth
Service Description: USGS Contract No. G17PC00015 CONTRACTOR: Fugro Geospatial, Inc. SUBCONTRACTOR: Terrasurv, Inc. Ground control and checkpoints collected by Terrasurv, Inc. All processing was completed by the prime contractor. DEM Raster File Type = GeoTIFF Bit Depth/Pixel Type = 32-bit float Raster Cell Size = 1 meter Interpolation or Resampling Technique = Triangulated Irregular Network (TIN) Network Required Vertical Accuracy = 19.6 cm NVA.
Name: Allegany/MD_allegany_dem_m
Description: USGS Contract No. G17PC00015 CONTRACTOR: Fugro Geospatial, Inc. SUBCONTRACTOR: Terrasurv, Inc. Ground control and checkpoints collected by Terrasurv, Inc. All processing was completed by the prime contractor. DEM Raster File Type = GeoTIFF Bit Depth/Pixel Type = 32-bit float Raster Cell Size = 1 meter Interpolation or Resampling Technique = Triangulated Irregular Network (TIN) Network Required Vertical Accuracy = 19.6 cm NVA.
Single Fused Map Cache: false
Extent:
XMin: 221400.0
YMin: 198000.0
XMax: 288000.0
YMax: 230400.0
Spatial Reference: 103068
(6487)
VCSWkid(5703)
LatestVCSWkid(5703)
Initial Extent:
XMin: 221400.0
YMin: 198000.0
XMax: 288000.0
YMax: 230400.0
Spatial Reference: 103068
(6487)
VCSWkid(5703)
LatestVCSWkid(5703)
Full Extent:
XMin: 221400.0
YMin: 198000.0
XMax: 288000.0
YMax: 230400.0
Spatial Reference: 103068
(6487)
VCSWkid(5703)
LatestVCSWkid(5703)
Pixel Size X: 1.0
Pixel Size Y: 1.0
Band Count: 1
Pixel Type: F32
RasterFunction Infos: {"rasterFunctionInfos": [
{
"name": "None",
"description": "Make a Raster or Raster Dataset into a Function Raster Dataset.",
"help": ""
},
{
"name": "Aspect",
"description": "Shows which direction a pixel is facing, where 0 is due north and angles increase clockwise to 360.",
"help": ""
},
{
"name": "DEM_ft",
"description": "Reprojects raster to WKID 6488.",
"help": ""
},
{
"name": "Hillshade",
"description": "Creates a 3D representation of the surface, with the sun's relative position taken into account for shading the image.",
"help": ""
},
{
"name": "Shaded_Relief_RGB",
"description": "Creates a multiband, color coded, 3D representation of the surface, with the sun's relative position taken into account for shading the image.",
"help": ""
},
{
"name": "Slope",
"description": "Calculates the rate of change from one pixel value to its neighbors.",
"help": ""
}
]}
Mensuration Capabilities:
Inspection Capabilities:
Has Histograms: true
Has Colormap: false
Has Multi Dimensions : false
Rendering Rule:
Min Scale: 0
Max Scale: 0
Copyright Text:
Service Data Type: esriImageServiceDataTypeGeneric
Min Values: 126.7979965209961
Max Values: 894.3359985351562
Mean Values: 370.5633441894195
Standard Deviation Values: 163.60803776334762
Object ID Field: OBJECTID
Fields:
-
OBJECTID
(
type: esriFieldTypeOID, alias: OBJECTID
)
-
Shape
(
type: esriFieldTypeGeometry, alias: Shape
)
-
Name
(
type: esriFieldTypeString, alias: Name, length: 200
)
-
MinPS
(
type: esriFieldTypeDouble, alias: MinPS
)
-
MaxPS
(
type: esriFieldTypeDouble, alias: MaxPS
)
-
LowPS
(
type: esriFieldTypeDouble, alias: LowPS
)
-
HighPS
(
type: esriFieldTypeDouble, alias: HighPS
)
-
Category
(
type: esriFieldTypeInteger, alias: Category
, Coded Values:
[0: Unknown]
, [1: Primary]
, [2: Overview]
, ...6 more...
)
-
Tag
(
type: esriFieldTypeString, alias: Tag, length: 100
)
-
GroupName
(
type: esriFieldTypeString, alias: GroupName, length: 100
)
-
ProductName
(
type: esriFieldTypeString, alias: ProductName, length: 100
)
-
CenterX
(
type: esriFieldTypeDouble, alias: CenterX
)
-
CenterY
(
type: esriFieldTypeDouble, alias: CenterY
)
-
ZOrder
(
type: esriFieldTypeInteger, alias: ZOrder
)
-
Shape_Length
(
type: esriFieldTypeDouble, alias: Shape_Length
)
-
Shape_Area
(
type: esriFieldTypeDouble, alias: Shape_Area
)
Default Mosaic Method: Northwest
Allowed Mosaic Methods: NorthWest,Center,LockRaster,ByAttribute,Nadir,Viewpoint,Seamline,None
SortField:
SortValue: null
Mosaic Operator: First
Default Compression Quality: 75
Default Resampling Method: Bilinear
Max Record Count: 1000
Max Image Height: 4100
Max Image Width: 15000
Max Download Image Count: 20
Max Mosaic Image Count: 20
Allow Raster Function: true
Allow Copy: true
Allow Analysis: true
Allow Compute TiePoints: false
Supports Statistics: true
Supports Advanced Queries: true
Use StandardizedQueries: true
Raster Type Infos:
Name: Raster Dataset
Description: Supports all ArcGIS Raster Datasets
Help:
Has Raster Attribute Table: false
Edit Fields Info: null
Ownership Based AccessControl For Rasters: null
Child Resources:
Info
Histograms
Statistics
Key Properties
Legend
Raster Function Infos
Supported Operations:
Export Image
Query
Identify
Compute Histograms
Compute Statistics Histograms
Get Samples
Compute Class Statistics
Query GPS Info
Find Images
Image to Map
Map to Image
Measure from Image
Image to Map Multiray
Query Boundary
Compute Pixel Location
Compute Angles
Validate
Project